BEGIN:VCALENDAR
VERSION:2.0
PRODID:-//ChamberMaster//Event Calendar 2.0//EN
METHOD:PUBLISH
X-PUBLISHED-TTL:P3D
REFRESH-INTERVAL:P3D
CALSCALE:GREGORIAN
BEGIN:VEVENT
DTSTART:20230712T150000Z
DTEND:20230712T160000Z
X-MICROSOFT-CDO-ALLDAYEVENT:FALSE
SUMMARY:2023 Chamber Circle: Speaking
DESCRIPTION:Real connections happen best within authentic relationships where members connect. Our Chamber Circles are small groups of Chamber Members with a common interest in their business and professional development. The Circles meet monthly to build business relationships and trust among members who know about their business and want to help each other succeed.  \n\n \n\nPurpose: Whatever your comfort level with public speaking\, this group will provide tips and strategies designed to make you a better speaker and increase your confidence in your speaking ability.\n\n \n\nHost: Kent Cummins (Magic Hotline)\n\n \n\nChamber Circles are designed to take members out of rows and into circles where they can provide meaningful conversations while discussing business content.
X-ALT-DESC;FMTTYPE=text/html:<span style="font-family:century gothic\,sans-serif\;"><span style="font-size:12.0pt\;">Real connections happen best within authentic relationships where members connect. Our Chamber Circles are small groups of Chamber Members with a common interest in their business and professional development. The Circles meet monthly to build business relationships and trust among members who know about their business and want to help each other succeed.&nbsp\; </span></span><br />\n&nbsp\;<br />\n<span style="font-family:century gothic\,sans-serif\;"><span style="font-size:12.0pt\;">Purpose: Whatever your comfort level with public speaking\, this group will provide tips and strategies designed to make you a better speaker and increase your confidence in your speaking ability.</span></span><br />\n&nbsp\;<br />\n<span style="font-family:century gothic\,sans-serif\;"><span style="font-size:12.0pt\;">Host: Kent Cummins (Magic Hotline)</span></span><br />\n&nbsp\;<br />\n<em><span style="font-family:century gothic\,sans-serif\;"><span style="font-size:12.0pt\;">Chamber Circles are designed to take members out of rows and into circles where they can provide meaningful conversations while discussing business content.</span></span></em>
LOCATION:Georgetown Public Library Study Room #206 Upstairs
UID:e.3550.7165
SEQUENCE:3
DTSTAMP:20260421T092112Z
URL:https://business.georgetownchamber.org/events/details/2023-chamber-circle-speaking-07-12-2023-7165
END:VEVENT

END:VCALENDAR
