BEGIN:VCALENDAR
VERSION:2.0
PRODID:-//ChamberMaster//Event Calendar 2.0//EN
METHOD:PUBLISH
X-PUBLISHED-TTL:P3D
REFRESH-INTERVAL:P3D
CALSCALE:GREGORIAN
BEGIN:VEVENT
DTSTART:20230809T150000Z
DTEND:20230809T160000Z
X-MICROSOFT-CDO-ALLDAYEVENT:FALSE
SUMMARY:2023 Chamber Circle: Speaking August
DESCRIPTION:Chamber Circle: Speaking\n\n\n\nReal connections happen best within authentic relationships where members connect. Our Chamber Circles are small groups of Chamber Members with a common interest in their business and professional development. The Circles meet monthly to build business relationships and trust among members who know about their business and want to help each other succeed. \n\n \n\nPurpose: Whatever your comfort level with public speaking\, this group will provide tips and strategies designed to make you a better speaker and increase your confidence in your speaking ability. \n\n \n\nHost: Kent Cummins (Magic Hotline)\n\n \n\nChamber Circles are designed to take members out of rows and into circles where they can provide meaningful conversations while discussing business content.
X-ALT-DESC;FMTTYPE=text/html:<span style="font-size:18px\;"><span style="font-family:arial\;"><span style="font-size:22px\;">Chamber Circle: Speaking</span><br />\n<br />\nReal connections happen best within authentic relationships where members connect. Our Chamber Circles are small groups of Chamber Members with a common interest in their business and professional development. The Circles meet monthly to build business relationships and trust among members who know about their business and want to help each other succeed.&nbsp\;<br />\n&nbsp\;<br />\nPurpose:&nbsp\;Whatever your comfort level with public speaking\, this group will provide tips and strategies designed to make you a better speaker and increase your confidence in your speaking ability.&nbsp\;<br />\n&nbsp\;<br />\nHost:&nbsp\;Kent Cummins (Magic Hotline)<br />\n&nbsp\;<br />\n<em>Chamber Circles are designed to take members out of rows and into circles where they can provide meaningful conversations while discussing business content. </em></span></span><br />\n&nbsp\;\n<div style="clear:both\;">&nbsp\;</div>\n
LOCATION:Georgetown Public Library Study Room #206 Upstairs
UID:e.3550.6597
SEQUENCE:3
DTSTAMP:20260421T090810Z
URL:https://business.georgetownchamber.org/events/details/2023-chamber-circle-speaking-august-6597
END:VEVENT

END:VCALENDAR
