BEGIN:VCALENDAR
VERSION:2.0
PRODID:-//ChamberMaster//Event Calendar 2.0//EN
METHOD:PUBLISH
X-PUBLISHED-TTL:P3D
REFRESH-INTERVAL:P3D
CALSCALE:GREGORIAN
BEGIN:VEVENT
DTSTART:20230208T160000Z
DTEND:20230208T170000Z
X-MICROSOFT-CDO-ALLDAYEVENT:FALSE
SUMMARY:2023 Chamber Circle: Speaking Creates Marketing Magic
DESCRIPTION:Real connections happen best within authentic relationships where members connect. Our Chamber Circles are small groups of Chamber Members who share a common interest in their business and professional development. The Circles meet monthly to build business relationships and trust among fellow members who know about their business and want to help each other succeed.  Chamber Circles are designed to take members out of rows and into circles where they can provide meaningful conversations while discussing business content. \n\n\n\nPurpose: Whatever your comfort level with public speaking\, this group will provide tips and strategies designed to make you a better speaker and increase your confidence in your speaking ability. \n\n\n\nFormat: Zoom\n\n\n\nHost: Kent Cummins (Magic Hotline)
X-ALT-DESC;FMTTYPE=text/html:<span style="font-size:24px\;"><span style="color: rgb(47\, 47\, 47)\;"><span style="box-sizing: border-box\; color: rgb(0\, 0\, 0)\;">Real connections happen best within authentic relationships where members connect. Our Chamber Circles are&nbsp\;small groups of Chamber Members who share a common interest in their business and professional development. The Circles meet monthly to build business relationships and trust among fellow members who know about their business and want to help each other succeed. &nbsp\;Chamber Circles are designed to take members out of rows and into circles where they can&nbsp\;provide meaningful conversations while discussing business content.&nbsp\;</span></span><br style="color: rgb(47\, 47\, 47)\;" />\n<br style="color: rgb(47\, 47\, 47)\;" />\n<span style="color: rgb(0\, 0\, 0)\;">Purpose:&nbsp\;</span><span style="box-sizing: border-box\; font-family: &quot\;Open Sans&quot\;\, sans-serif\; color: rgb(0\, 0\, 0)\;"><i style="box-sizing: border-box\;">Whatever your co</i></span><span style="box-sizing: border-box\; font-family: &quot\;Open Sans&quot\;\, sans-serif\; color: rgb(0\, 0\, 0)\;"><i style="box-sizing: border-box\;">mfort level with public speaking\, this group will provide tips and strategies designed to make you a better speaker and increase your confidence in your speaking ability.&nbsp\;</i></span></span><br style="color: rgb(47\, 47\, 47)\;" />\n<br style="color: rgb(47\, 47\, 47)\;" />\n<span style="color: rgb(0\, 0\, 0)\;"><span style="font-size: 20px\;"><span style="font-family: tahoma\;">Format: Zoom<br />\n<br />\nHost: Kent Cummins (Magic Hotline)</span></span></span>\n<div style="clear:both\;">&nbsp\;</div>\n
LOCATION:Little Lemon at the Library on 8th Street
UID:e.3550.6370
SEQUENCE:3
DTSTAMP:20260421T164811Z
URL:https://business.georgetownchamber.org/events/details/2023-chamber-circle-speaking-creates-marketing-magic-6370
END:VEVENT

END:VCALENDAR
