BEGIN:VCALENDAR
VERSION:2.0
PRODID:-//ChamberMaster//Event Calendar 2.0//EN
METHOD:PUBLISH
X-PUBLISHED-TTL:P3D
REFRESH-INTERVAL:P3D
CALSCALE:GREGORIAN
BEGIN:VEVENT
DTSTART:20230822T130000Z
DTEND:20230822T140000Z
X-MICROSOFT-CDO-ALLDAYEVENT:FALSE
SUMMARY:2023 Chamber Circle: Veteran Owned Business August
DESCRIPTION:Chamber Circle: Veteran Owned Business\n\n\n\nReal connections happen best within authentic relationships where members connect. Our Chamber Circles are small groups of Chamber Members with a common interest in their business and professional development. The Circles meet monthly to build business relationships and trust among members who know about their business and want to help each other succeed. \n\n \n\nPurpose: A platform for building a community of veteran-owned businesses to discuss business and veteran topics such as veteran funds\, grants\, and resources.\n\n \n\nHost: Ret. Gen. Bob Halverson\n\nAugust Speaker: State Representative Terry Wilson\n\n \n\nChamber Circles are designed to take members out of rows and into circles where they can provide meaningful conversations while discussing business content.
X-ALT-DESC;FMTTYPE=text/html:<p><span style="font-size:18px\;"><span style="font-family:arial\;"><span style="font-size:22px\;">Chamber Circle: Veteran Owned Business</span><br />\n<br />\nReal connections happen best within authentic relationships where members connect. Our Chamber Circles are small groups of Chamber Members with a common interest in their business and professional development. The Circles meet monthly to build business relationships and trust among members who know about their business and want to help each other succeed.&nbsp\;<br />\n&nbsp\;<br />\nPurpose:&nbsp\;A platform for building a community of veteran-owned businesses to discuss business and veteran topics such as veteran funds\, grants\, and resources.<br />\n&nbsp\;<br />\nHost:&nbsp\;Ret. Gen. Bob Halverson<br />\nAugust Speaker: State Representative Terry Wilson<br />\n&nbsp\;<br />\n<em>Chamber Circles are designed to take members out of rows and into circles where they can provide meaningful conversations while discussing business content. </em></span></span><br />\n<br />\n&nbsp\;</p>\n\n<p>&nbsp\;</p>\n
LOCATION:Chamber of Commerce 1 Chamber Way Georgetown\, TX 78626
UID:e.3550.7097
SEQUENCE:3
DTSTAMP:20260421T082159Z
URL:https://business.georgetownchamber.org/events/details/2023-chamber-circle-veteran-owned-business-august-7097
END:VEVENT

END:VCALENDAR
