BEGIN:VCALENDAR
VERSION:2.0
PRODID:-//ChamberMaster//Event Calendar 2.0//EN
METHOD:PUBLISH
X-PUBLISHED-TTL:P3D
REFRESH-INTERVAL:P3D
CALSCALE:GREGORIAN
BEGIN:VEVENT
DTSTART:20231214T150000Z
DTEND:20231214T160000Z
X-MICROSOFT-CDO-ALLDAYEVENT:FALSE
SUMMARY:2023 Chamber Circle: Women In Business
DESCRIPTION:Chamber Circle: Women In Business\n\n\n\nReal connections happen best within authentic relationships where members connect with one another. Our Chamber Circles are small groups of Chamber members who share common interest in their business and professional development. The Circles meet monthly to build business relationships and trust among fellow members who know about their business and want to help each other succeed.  Chamber Circles are designed to take members out of rows and into circles where they can provide meaningful conversations while discussing business content. \n\n\n\nSupport and networking for women in business (Owners or anyone working in a business)\n\n\n\nFormat: Roundtable   Discussion\n\n\n\nHost:\n\nMichele Jaroszewski-Webb (Schlotzsky's Deli).\n\nStephanie Featherstone (State Farm Insurance)\, \n\nWendy Cash (Century 21 Hellman Stribling)\,
X-ALT-DESC;FMTTYPE=text/html:<p style="margin: 0in\; background-image: initial\; background-position: initial\; background-size: initial\; background-repeat: initial\; background-attachment: initial\; background-origin: initial\; background-clip: initial\;"><span style="font-family:arial\;"><span style="font-size:22px\;">Chamber Circle: Women In Business</span></span><br />\n<br />\n<span style="font-size:18px\;"><span style="font-family:arial\;"><span style="background-image: initial\; background-position: initial\; background-size: initial\; background-repeat: initial\; background-attachment: initial\; background-origin: initial\; background-clip: initial\;"><span style="color: black\;">Real connections happen best within authentic relationships where members connect with one another. Our Chamber Circles are&nbsp\;small groups of Chamber members who share common interest in their business and professional development. The Circles meet monthly to build business relationships and trust among fellow members who know about their business and want to help each other succeed. &nbsp\;Chamber Circles are designed to take members out of rows and into circles where they can provide meaningful conversations while discussing business content.&nbsp\;</span></span></span></span></p>\n\n<p style="margin: 0in\; background-image: initial\; background-position: initial\; background-size: initial\; background-repeat: initial\; background-attachment: initial\; background-origin: initial\; background-clip: initial\;"><br />\n<span style="font-size:18px\;"><span style="font-family:arial\;"><span style="color: rgb(0\, 0\, 0)\;">Support and networking for women in business (Owners or anyone working in a business)</span><br />\n<br />\n<span style="background:white\;"><span style="color:black\;">Format: Roundtable &ndash\; Discussion</span></span><br />\n<br />\n<span style="color: black\;">Host:</span></span></span></p>\n\n<p style="margin: 0in\; background-image: initial\; background-position: initial\; background-size: initial\; background-repeat: initial\; background-attachment: initial\; background-origin: initial\; background-clip: initial\;"><span style="font-size:18px\;"><span style="font-family:arial\;"><span style="color: black\;">Michele Jaroszewski-Webb (<a href="http://www.schlotzskys.com/" style="box-sizing: border-box\;\ntransition: all 0.1s ease-in-out 0s\;background-position-x:0px\;background-position-y:\n0px" target="_blank"><span style="color: rgb(75\, 129\, 173)\; text-decoration-line: none\;">Schlotzsky&#39\;s Deli</span></a>).</span></span></span><span style="font-size:10.5pt\;font-family:&quot\;Arial&quot\;\,sans-serif\;\ncolor:#2F2F2F"><o:p></o:p></span></p>\n\n<p style="margin: 0in\; background-image: initial\; background-position: initial\; background-size: initial\; background-repeat: initial\; background-attachment: initial\; background-origin: initial\; background-clip: initial\; box-sizing: border-box\;"><span style="font-size:18px\;"><span style="font-family:arial\;"><span style="box-sizing: border-box"><span style="color: black\;">Stephanie Featherstone (<a href="http://www.stephaniefeatherstone.com/" style="box-sizing: border-box\;\ntransition: all 0.1s ease-in-out 0s\;background-position-x:0px\;background-position-y:\n0px" target="_blank"><span style="color: rgb(75\, 129\, 173)\; text-decoration-line: none\;">State Farm Insurance)</span></a>\, </span></span></span></span><span style="box-sizing: border-box"><span style="font-size:\n10.5pt\;font-family:&quot\;Arial&quot\;\,sans-serif\;color:black"><o:p></o:p></span></span></p>\n\n<p style="margin: 0in\; background-image: initial\; background-position: initial\; background-size: initial\; background-repeat: initial\; background-attachment: initial\; background-origin: initial\; background-clip: initial\;"><span style="font-size:18px\;"><span style="font-family:arial\;"><span style="color: black\;">Wendy Cash (<a href="http://www.century21hs.com/" style="box-sizing: border-box\;\ntransition: all 0.1s ease-in-out 0s\;background-position-x:0px\;background-position-y:\n0px" target="_blank"><span style="color: rgb(75\, 129\, 173)\; text-decoration-line: none\;">Century 21 Hellman Stribling)</span></a>\, </span></span></span><span style="font-size:10.5pt\;\nfont-family:&quot\;Arial&quot\;\,sans-serif\;color:black"><o:p></o:p></span></p>\n\n<p style="margin: 0in\; background-image: initial\; background-position: initial\; background-size: initial\; background-repeat: initial\; background-attachment: initial\; background-origin: initial\; background-clip: initial\;"><span style="font-size:18px\;"><span style="font-family:arial\;"><span style="color: black\;">&nbsp\;</span></span></span></p>\n\n<p style="margin: 0in\; background-image: initial\; background-position: initial\; background-size: initial\; background-repeat: initial\; background-attachment: initial\; background-origin: initial\; background-clip: initial\;">&nbsp\;</p>\n<br />\n<br />\n<br />\n<br />\n<br />\n<br />\n<br />\n&nbsp\;
LOCATION:Georgetown Chamber of Commerce 1 Chamber Way\, Georgetown\, TX\, 78626
UID:e.3550.6586
SEQUENCE:3
DTSTAMP:20260421T032212Z
URL:https://business.georgetownchamber.org/events/details/2023-chamber-circle-women-in-business-12-14-2023-6586
END:VEVENT

END:VCALENDAR
