BEGIN:VCALENDAR
VERSION:2.0
PRODID:-//ChamberMaster//Event Calendar 2.0//EN
METHOD:PUBLISH
X-PUBLISHED-TTL:P3D
REFRESH-INTERVAL:P3D
CALSCALE:GREGORIAN
BEGIN:VEVENT
DTSTART:20230810T140000Z
DTEND:20230810T150000Z
X-MICROSOFT-CDO-ALLDAYEVENT:FALSE
SUMMARY:2023 Chamber Circle: Women In Business August
DESCRIPTION:Chamber Circle: Women In Business \n\n\n\nReal connections happen best within authentic relationships where members connect. Our Chamber Circles are small groups of Chamber Members with a common interest in their business and professional development. The Circles meet monthly to build business relationships and trust among members who know about their business and want to help each other succeed. \n\n \n\nPurpose: Support and networking for women in business (Owners or anyone working in a business)\n\n \n\nHost:\n\nMichele Jaroszewski-Webb (Schlotzsky's)\n\nStephanie Featherstone (State Farm Insurance)\n\nWendy Cash (Century 21 Hellman Stribling)\n\n \n\nChamber Circles are designed to take members out of rows and into circles where they can provide meaningful conversations while discussing business content.
X-ALT-DESC;FMTTYPE=text/html:<p style="margin: 0in\; background-image: initial\; background-position: initial\; background-size: initial\; background-repeat: initial\; background-attachment: initial\; background-origin: initial\; background-clip: initial\;"><span style="font-size:18px\;"><span style="font-family:arial\;"><span style="font-size:22px\;">Chamber Circle: Women In Business&nbsp\;</span><br />\n<br />\nReal connections happen best within authentic relationships where members connect. Our Chamber Circles are small groups of Chamber Members with a common interest in their business and professional development. The Circles meet monthly to build business relationships and trust among members who know about their business and want to help each other succeed.&nbsp\;<br />\n&nbsp\;<br />\nPurpose:&nbsp\;Support and networking for women in business (Owners or anyone working in a business)<br />\n&nbsp\;<br />\nHost:<br />\nMichele Jaroszewski-Webb&nbsp\;(Schlotzsky&#39\;s)</span></span></p>\n\n<p style="margin: 0in\; background-image: initial\; background-position: initial\; background-size: initial\; background-repeat: initial\; background-attachment: initial\; background-origin: initial\; background-clip: initial\; box-sizing: border-box\;"><span style="font-size:18px\;"><span style="font-family:arial\;"><span style="box-sizing: border-box\;">Stephanie Featherstone (State Farm Insurance)</span></span></span></p>\n\n<p style="margin: 0in\; background-image: initial\; background-position: initial\; background-size: initial\; background-repeat: initial\; background-attachment: initial\; background-origin: initial\; background-clip: initial\;"><span style="font-size:18px\;"><span style="font-family:arial\;">Wendy Cash (Century 21 Hellman Stribling)</span></span></p>\n\n<p style="margin: 0in\; background-image: initial\; background-position: initial\; background-size: initial\; background-repeat: initial\; background-attachment: initial\; background-origin: initial\; background-clip: initial\;"><span style="font-size:18px\;"><span style="font-family:arial\;">&nbsp\;<br />\n<em>Chamber Circles are designed to take members out of rows and into circles where they can provide meaningful conversations while discussing business content.</em></span></span></p>\n
LOCATION:Georgetown Chamber of Commerce 1 Chamber Way\, Georgetown\, TX\, 78626
UID:e.3550.6582
SEQUENCE:3
DTSTAMP:20260421T084158Z
URL:https://business.georgetownchamber.org/events/details/2023-chamber-circle-women-in-business-august-6582
END:VEVENT

END:VCALENDAR
