BEGIN:VCALENDAR
VERSION:2.0
PRODID:-//ChamberMaster//Event Calendar 2.0//EN
METHOD:PUBLISH
X-PUBLISHED-TTL:P3D
REFRESH-INTERVAL:P3D
CALSCALE:GREGORIAN
BEGIN:VEVENT
DTSTART:20231207T170000Z
DTEND:20231207T190000Z
X-MICROSOFT-CDO-ALLDAYEVENT:FALSE
SUMMARY:2023 Cornerstone & Business Expo December
DESCRIPTION:Cornerstone & Business Expo\n\n\n\nEconomic Development\, Education\, Public Safety\, and Healthcare are the four cornerstones of a Chamber of Excellence. Each luncheon features a distinguished speaker. Before the program begins\, a Business Expo allows Chamber members to showcase their products and service to the 130+ guests! \n\n \n\nTopic: An update on your Police Department and what lies ahead in 2024\n\n\n\nGuest Speaker: Chief Cory J. Tchida has more than 25 years of experience in law enforcement. He has been with the Georgetown\, Texas\, Police Department for more than 26 years\, beginning his career as a patrol officer and working through the ranks. Chief Tchida currently manages and leads the day-to-day operations of the department\, including patrol\, criminal investigations\, traffic\, records\, community engagement\, and communications.  His teaching experience includes topics such as use of force\, less-lethal devices\, active shooters\, racial profiling\, crime statistics\, wellness\, and leadership and supervision. Chief Tchida created a workload metric tracking system for patrol officers\, coordinated department training\, conducted a complete rewrite of the standard operating procedures for the Narcotics Unit\, and reformed the Traffic Unit. Currently he is working to improve the Department's mental health response\, create more accountability for police officers\, and increase the number of women in the law enforcement profession. Over the course of his career\, he has received numerous honors\, including the Georgetown Police Chief's Award\, the City of Georgetown Manager of the Year Award\, and the Chamber of Commerce's Citizen of the Year.  Chief Tchida earned a master of science degree in criminal justice leadership and management from Sam Houston State University and a bachelor of arts degree in government from the University of Texas at Austin. He is a 2014 graduate of Northwestern University's School of Police Staff and Command and a 2018 graduate of the 272nd Session of the Federal Bureau of Investigation National Academy.\n\n\n\n \n\nSponsored By: You! Contact us to find out more information.\n\n\n\nSchedule of Events:\n\n11:00 AM   Exhibitor Tables\n\n11:45 AM   Luncheon\n\n1:00 PM - Event Ends\n\n \n\nCatering Provided By: 2020 Scratch Kitchen\n\n\n\nThe four cornerstones of a Chamber of Excellence are Healthcare\, Public Safety\, Economic Development\, and Education. This month's luncheon focuses on Public Safety.
X-ALT-DESC;FMTTYPE=text/html:<p><span style="font-size:22px\;"><strong><span style="font-family:arial\;">Cornerstone &amp\; Business Expo</span></strong></span><br />\n<br />\n<span style="font-size:18px\;"><span style="font-family:arial\;">Economic Development\, Education\, Public Safety\, and Healthcare are the four cornerstones of a Chamber of Excellence. Each luncheon features a distinguished speaker.&nbsp\;Before the program begins\, a Business Expo allows Chamber members to showcase their products and service to the 130+ guests!&nbsp\;<br />\n&nbsp\;<br />\nTopic:&nbsp\;An update on your Police Department and what lies ahead in 2024<br />\n<br />\nGuest Speaker: Chief Cory J. Tchida has more than 25 years of experience in law enforcement. He has been with the Georgetown\, Texas\, Police Department for more than 26 years\, beginning his career as a patrol officer and working through the ranks. Chief Tchida currently manages and leads the day-to-day operations of the department\, including patrol\, criminal investigations\, traffic\, records\, community engagement\, and communications.&nbsp\; His teaching experience includes topics such as use of force\, less-lethal devices\, active shooters\, racial profiling\, crime statistics\, wellness\, and leadership and supervision. Chief Tchida created a workload metric tracking system for patrol officers\, coordinated department training\, conducted a complete rewrite of the standard operating procedures for the Narcotics Unit\, and reformed the Traffic Unit. Currently he is working to improve the Department&rsquo\;s mental health response\, create more accountability for police officers\, and increase the number of women in the law enforcement profession. Over the course of his career\, he has received numerous honors\, including the Georgetown Police Chief&rsquo\;s Award\, the City of Georgetown Manager of the Year Award\, and the Chamber of Commerce&rsquo\;s Citizen of the Year. &nbsp\;Chief Tchida earned a master of science degree in criminal justice leadership and management from Sam Houston State University and a bachelor of arts degree in government from the University of Texas at Austin. He is a 2014 graduate of Northwestern University&rsquo\;s School of Police Staff and Command and a 2018 graduate of the 272nd Session of the Federal Bureau of Investigation National Academy.<br />\n<br />\n<span style="font-size:16px\;">&nbsp\;</span><br />\nSponsored By: You! Contact us to find out more information.<br />\n<br />\nSchedule of Events:<br />\n11:00 AM &ndash\; Exhibitor Tables<br />\n11:45 AM &ndash\; Luncheon<br />\n1:00 PM - Event Ends<br />\n&nbsp\;<br />\nCatering Provided By: 2020 Scratch Kitchen<br />\n<br />\n<em>The four cornerstones of a Chamber of Excellence are Healthcare\, Public Safety\, Economic Development\, and Education. This month&#39\;s luncheon focuses on Public Safety.</em></span></span></p>\n\n<p><br />\n&nbsp\;</p>\n
LOCATION:Celebrino Event Center 51 Co Rd 107 Georgetown\, TX 78626
UID:e.3550.7150
SEQUENCE:3
DTSTAMP:20260421T042902Z
URL:https://business.georgetownchamber.org/events/details/2023-cornerstone-business-expo-december-7150
END:VEVENT

END:VCALENDAR
