BEGIN:VCALENDAR
VERSION:2.0
PRODID:-//ChamberMaster//Event Calendar 2.0//EN
METHOD:PUBLISH
X-PUBLISHED-TTL:P3D
REFRESH-INTERVAL:P3D
CALSCALE:GREGORIAN
BEGIN:VEVENT
DTSTART:20230924T170000Z
DTEND:20230924T200000Z
X-MICROSOFT-CDO-ALLDAYEVENT:FALSE
SUMMARY:2023 Jr. Leadership Retreat
DESCRIPTION:Junior Leadership Georgetown is a program created to develop the next generation of Georgetown community leaders.  This nine-month program for high school juniors and seniors is designed to strengthen participants' leadership skills\, community awareness and involvement.  Junior Leadership Georgetown will provide participants with quality\, relevant leadership training along with knowledge of community\, needs and opportunities.  It allows participants to form effective relationships with current\, past\, and future leaders in the community.
X-ALT-DESC;FMTTYPE=text/html:<span style="font-family:arial\;"><span style="font-size:18px\;">Junior Leadership Georgetown is a program created to develop the next generation of Georgetown community leaders.&nbsp\; This nine-month program for high school juniors and seniors is designed to strengthen participants&rsquo\; leadership skills\, community awareness and involvement.&nbsp\; Junior Leadership Georgetown will provide participants with quality\, relevant leadership training along with knowledge of community\, needs and opportunities.&nbsp\; It allows participants to form effective relationships with current\, past\, and future leaders in the community. </span></span>
LOCATION:1631 Booty's Crossing Rd\, Georgetown\, TX 78628 Located in : Booty's Road Park
UID:e.3550.6445
SEQUENCE:3
DTSTAMP:20260421T065508Z
URL:https://business.georgetownchamber.org/events/details/2023-jr-leadership-retreat-09-24-2023-6445
END:VEVENT

END:VCALENDAR
