BEGIN:VCALENDAR
VERSION:2.0
PRODID:-//ChamberMaster//Event Calendar 2.0//EN
METHOD:PUBLISH
X-PUBLISHED-TTL:P3D
REFRESH-INTERVAL:P3D
CALSCALE:GREGORIAN
BEGIN:VEVENT
DTSTART;VALUE=DATE:20231115
DTEND;VALUE=DATE:20231116
TRANSP:TRANSPARENT
X-MICROSOFT-CDO-ALLDAYEVENT:TRUE
SUMMARY:2023 Leadership Georgetown
DESCRIPTION:Leadership Georgetown is a program which identifies and develops talented and committed citizens who aspire to provide leadership in Georgetown's business and community activities. Leadership Georgetown develops leaders by providing quality\, relevant leadership skills training to match the dynamic needs of the community. It explains the essential roles of Georgetown's governmental\, educational\, economic\, and cultural organizations and encourages participants to explore options for personal involvement and relationship building. It creates opportunities for participants to form effective relationships with current\, past\, and future leaders in the community. Finally\, it facilitates the appointment of graduates to leadership roles within the Georgetown Chamber of Commerce and other community organizations.
X-ALT-DESC;FMTTYPE=text/html:<span style="font-family:arial\;"><span style="font-size:18px\;"><span style="background:white\;"><span style="color:#333333\;">Leadership Georgetown is a program which identifies and develops talented and committed citizens who aspire to provide leadership in Georgetown&rsquo\;s business and community activities. Leadership Georgetown develops leaders by providing quality\, relevant leadership skills training to match the dynamic needs of the community. It explains the essential roles of Georgetown&rsquo\;s governmental\, educational\, economic\, and cultural organizations and encourages participants to explore options for personal involvement and relationship building. It creates opportunities for participants to form effective relationships with current\, past\, and future leaders in the community. Finally\, it facilitates the appointment of graduates to leadership roles within the Georgetown Chamber of Commerce and other community organizations.</span></span></span></span><br style="font-variant-ligatures:normal\;font-variant-caps:normal\;orphans:2\;text-align:start\;widows:2\;-webkit-text-stroke-width:0px\;text-decoration-thickness:initial\;text-decoration-style:initial\;word-spacing:0px\;" />\n<br />\n&nbsp\;
LOCATION:
UID:e.3550.6436
SEQUENCE:3
DTSTAMP:20260421T042913Z
URL:https://business.georgetownchamber.org/events/details/2023-leadership-georgetown-11-15-2023-6436
END:VEVENT

END:VCALENDAR
