BEGIN:VCALENDAR
VERSION:2.0
PRODID:-//ChamberMaster//Event Calendar 2.0//EN
METHOD:PUBLISH
X-PUBLISHED-TTL:P3D
REFRESH-INTERVAL:P3D
CALSCALE:GREGORIAN
BEGIN:VEVENT
DTSTART:20230621T163000Z
DTEND:20230621T180000Z
X-MICROSOFT-CDO-ALLDAYEVENT:FALSE
SUMMARY:2023 Lunch & Learn June
DESCRIPTION:Lunch and Learn\n\nLunch and Learn is a professional event where local businesses come together for a meal during the workday for professional development.\n\n\n\nTopic: Intentional Leadership and Communication\n\n\n\nGuest Speaker: Jodee O'Brien with ActionCOACH\n\nThrough her years of experience as both a nonprofit executive and business owner\, Jodee has developed a powerful skill set which enables her to quickly assess the needs of an organization\, build teams to effectively convene around strategic plans and lead them towards meaningful change. By leveraging her expertise\, knowledge and resources\, Jodee is helping organizations of all sizes to create and sustain positive impact in their communities.\n\n\n\nCatering Provided By: Schlotzskey's
X-ALT-DESC;FMTTYPE=text/html:<p><span style="font-size:16px\;"><span style="font-size:18px\;"><strong>Lunch and Learn</strong></span><br />\n<span style="font-family:verdana\;">Lunch and Learn is a professional event where local businesses come together for a meal during the workday for professional development.<br />\n<br />\nTopic: Intentional Leadership and Communication<br />\n<br />\nGuest Speaker: Jodee O&#39\;Brien with ActionCOACH<br />\nThrough her years of experience as both a nonprofit executive and business owner\, Jodee has developed a powerful skill set which enables her to quickly assess the needs of an organization\, build teams to effectively convene around strategic plans and lead them towards meaningful change. By leveraging her expertise\, knowledge and resources\, Jodee is helping organizations of all sizes to create and sustain positive impact in their communities.</span></span></p>\n\n<p><br />\n<span style="font-size:16px\;"><span style="font-family:verdana\;">Catering Provided By: Schlotzskey&#39\;s</span><br />\n&nbsp\;</span></p>\n
LOCATION:Georgetown Chamber of Commerce 1 Chamber Way Georgetown\, TX 78626
UID:e.3550.6642
SEQUENCE:3
DTSTAMP:20260421T102918Z
URL:https://business.georgetownchamber.org/events/details/2023-lunch-learn-june-6642
END:VEVENT

END:VCALENDAR
