BEGIN:VCALENDAR
VERSION:2.0
PRODID:-//ChamberMaster//Event Calendar 2.0//EN
METHOD:PUBLISH
X-PUBLISHED-TTL:P3D
REFRESH-INTERVAL:P3D
CALSCALE:GREGORIAN
BEGIN:VEVENT
DTSTART:20231207T231500Z
DTEND:20231208T030000Z
X-MICROSOFT-CDO-ALLDAYEVENT:FALSE
SUMMARY:2023 Ribbon Cutting - The Garden at the Summit
DESCRIPTION:Ribbon Cutting - The Garden at the Summit\n\n\n\nThe Chamber of Commerce is proud to partner with The Garden at the Summit as we celebrate their Grand Re-Opening with a Ribbon Cutting! Please stop by\, get to know their staff\, and learn more about their business.\n\n\n\nThe Garden strives to serve an authentic dining experience to the Georgetown area. Their carefully curated menu features only the freshest ingredients to showcase the perfect blend of Texas comfort and flavors. From bites + beer to full entrees and an extensive list wine + craft cocktails\, they have something for everyone. Join them for brunch\, lunch and dinner!\n\n\n\nWe will cut the ribbon at 5:30 pm. Doors will be open from 5 pm to 9 pm.  Please come by\, get to know the staff\, and learn more about their business.\n\n\n\nRibbon Cuttings are an excellent opportunity to celebrate milestones with members of the Georgetown Chamber. Ribbon Cuttings are free and open to the public.
X-ALT-DESC;FMTTYPE=text/html:<span style="font-family:arial\;"><strong><span style="font-size:22px\;">Ribbon Cutting - The Garden at the Summit</span></strong><br />\n<br />\n<span style="font-size:18px\;">The Chamber of Commerce is proud to partner with The Garden at the Summit as we celebrate their Grand Re-Opening with a Ribbon Cutting! Please stop by\, get to know their staff\, and learn more about their business.</span><br />\n<br />\n<span style="font-size:18px\;">The Garden strives to serve an authentic dining experience to the Georgetown area. Their carefully curated menu features only the freshest ingredients to showcase the perfect blend of Texas comfort and flavors. From bites + beer to full entrees and an extensive list wine + craft cocktails\, they have something for everyone. Join them for brunch\, lunch and dinner!</span><br />\n<br />\n<span style="font-size:18px\;">We will cut the ribbon at 5:30 pm. Doors will be open from 5 pm to 9 pm.&nbsp\; Please come by\, get to know the staff\, and learn more about their business.<br />\n<br />\n<em>Ribbon Cuttings are an excellent opportunity to celebrate milestones with members of the Georgetown Chamber. Ribbon Cuttings are free and open to the public.</em></span></span><br />\n<br />\n&nbsp\;
LOCATION:The Garden at the Summit 1500 Rivery Blvd\, Suite 2175 Georgetown\, TX 78628
UID:e.3550.7327
SEQUENCE:3
DTSTAMP:20260421T032100Z
URL:https://business.georgetownchamber.org/events/details/2023-ribbon-cutting-the-garden-at-the-summit-7327
END:VEVENT

END:VCALENDAR
