BEGIN:VCALENDAR
VERSION:2.0
PRODID:-//ChamberMaster//Event Calendar 2.0//EN
METHOD:PUBLISH
X-PUBLISHED-TTL:P3D
REFRESH-INTERVAL:P3D
CALSCALE:GREGORIAN
BEGIN:VEVENT
DTSTART:20230713T221500Z
DTEND:20230713T231500Z
X-MICROSOFT-CDO-ALLDAYEVENT:FALSE
SUMMARY:2023 Ribbon Cutting - The Palomino
DESCRIPTION:The Chamber of Commerce is proud to partner with The Palomino as we celebrate their grand opening with a Ribbon Cutting! Please stop by\, get to know the staff\, and learn more about their business.\n\n\n\nDoors will be open from 5 pm to 6:15 pm. We will cut the ribbon at 5:15 pm. Please come early\, get to know the staff\, and learn more about their business.\n\n\n\nRibbon Cuttings are an excellent opportunity to celebrate milestones with members of the Georgetown Chamber. Ribbon Cuttings are free and open to the public.
X-ALT-DESC;FMTTYPE=text/html:<span style="font-size:18px\;"><span style="font-family:arial\;">The Chamber of Commerce is proud to partner with The Palomino as we celebrate their grand opening with a Ribbon Cutting! Please stop by\, get to know the staff\, and learn more about their business.<br />\n<br />\nDoors will be open from 5 pm to 6:15 pm. We will cut the ribbon at 5:15 pm. Please come early\, get to know the staff\, and learn more about their business.<br />\n<br />\nRibbon Cuttings are an excellent opportunity to celebrate milestones with members of the Georgetown Chamber. Ribbon Cuttings are free and open to the public.</span></span><br />\n<br />\n&nbsp\;
LOCATION:The Palomino 305 E Morrow St Georgetown\, TX 78626
UID:e.3550.7194
SEQUENCE:3
DTSTAMP:20260421T091112Z
URL:https://business.georgetownchamber.org/events/details/2023-ribbon-cutting-the-palomino-7194
END:VEVENT

END:VCALENDAR
