BEGIN:VCALENDAR
VERSION:2.0
PRODID:-//ChamberMaster//Event Calendar 2.0//EN
METHOD:PUBLISH
X-PUBLISHED-TTL:P3D
REFRESH-INTERVAL:P3D
CALSCALE:GREGORIAN
BEGIN:VEVENT
DTSTART:20240202T000000Z
DTEND:20240202T040000Z
X-MICROSOFT-CDO-ALLDAYEVENT:FALSE
SUMMARY:2024 Annual Awards Banquet
DESCRIPTION:Annual Awards Banquet\n\n\n\nJoin us Thursday\, February 1 for our annual Business Awards Banquet\, celebrating the Chamber's 77th anniversary!\n\n\n\nThis annual event brings the business community together to celebrate local accomplishments\, look forward to the year ahead\, and recognize our award recipients. The awards recognize companies and organizations in our area for their achievement and community contributions. Attendees enjoy a reception\, year-in-review\, business awards and a seated dinner.\n\n\n\nAwards to be presented include:\n\nLarge Business of the Year\n\nSmall Business of the Year\n\nAmbassador of the Year\n\nCitizen of the Year\n\nVolunteer of the Year\n\nJesse Buz Sawyer Award\n\nOwen Sherrill Lifetime Achievement Award\n\n\n\nThe Annual Awards Banquet is a premier event each year offering a variety of sponsorship opportunities. \n\n\n\nChoose your sponsorship by following this link.\n\n\n\nTables of 8 can be reserved for $600.  Individual tickets are $75 per person/general admission (Member pricing).\n\n\n\nClick the "register now" button above to secure your seat and sponsorship. \n\n\n\nSchedule:\n\n6:00pm - Reception Hour and Guests Check-in\n\n7:00pm - Dinner & Dessert\, followed by the awards presentation\n\n\n\nAttire:\n\nBusiness Attire/Cocktail attire\n\n\n\nDiamond Sponsor - $2\,500\n\nSponsor recognition on event materials\n\nRecognition in advance publicity: newsletter\, website and social media Recognition in event program\n\nRecognition from the podium during event\n\nReserved table for eight in prime location\n\nCorporate identification at table \n\n\n\nRuby Reception Sponsor - $2\,000 (Only 1 Available) \n\nBusiness logo included on beverage napkins\n\nSponsor recognition on event materials\n\nRecognition in advance publicity: newsletter\, website and social media Recognition in event program\n\nRecognition from the podium during event\n\nReserved seating for eight people\n\n\n\nSapphire Sponsor - $1\,500 \n\nSponsor recognition on event materials\n\nRecognition in advance publicity: newsletter\, website and social media\n\nRecognition from the podium during event\n\nReserved seating for four people\n\n\n\nPhotography Provided by: \n\nBrett G Studios\n\n\n\nCenterpieces Provided by: \n\nHighPointe Estate\n\n\n\nSilent Auction Items Provided by: \n\nCity Post\, Chisholm Trail Financial Group\, Eagles Wings Home Improvement Services\, Embassy Suites\, Faith in Action\, Fish City Grill\, Forward Financial\, Flourish Nutritional Therapy\, Georgetown Country Club\, Georgetown Counseling and Wellness\, Georgetown TV and Audio\, Mesquite Creek Outfitters\, Nothing Bundt Cakes\, Novita Beauty and Regenerative Wellness\, Outlaws & Gypsies\, Raising Canes\, ROCK\, Ron Parks Photography\, San Gabriel House\, Sheraton Austin Georgetown Hotel and Conference Center\, Spa Luxe\, Tail Waggins Dog Bakery\, The Georgetown Project\, The Hacienda\, The Purple Guys\, THIE\, Timeless Imports\, Walburg Community Center\, Whataburger\, Wildfire\, Chamber Ambassadors
X-ALT-DESC;FMTTYPE=text/html:<p><span style="font-size:18px\;"><span style="font-family:arial\;"><span style="color:#000000\;"><span style="background:white\;"><strong><span style="font-size:22px\;">Annual Awards Banquet</span></strong><br />\n<br />\nJoin us Thursday\, February 1&nbsp\;for our annual Business Awards Banquet\, celebrating the Chamber&#39\;s 77th anniversary!<br />\n<br />\nThis annual event brings the business community together to celebrate local&nbsp\;accomplishments\, look forward to the year ahead\, and recognize our award recipients. The awards recognize companies and organizations in our area for their achievement and community contributions. Attendees enjoy a reception\, year-in-review\, business awards and a seated dinner.<br />\n<br />\n<strong>Awards to be presented include:</strong></span></span><br />\n<span style="color:#000000\;">Large Business of the Year<br />\n<span font-size:="" open="" style="box-sizing:border-box\;"><span open="" style="box-sizing:border-box\;">Small Business of the Year<br />\nAmbassador of the Year<br />\nCitizen of the Year<br />\nVolunteer of the Year</span></span><br />\n<span font-size:="" open="">Jesse Buz Sawyer Award</span></span><br font-size:="" open="" />\n<span font-size:="" open=""><span style="color:#000000\;">Owen Sherrill Lifetime Achievement Award</span></span><br />\n<br />\n<span font-size:="" open="" style="box-sizing:border-box\;"><span open="" style="box-sizing:border-box\;"><span style="color:#000000\;">The Annual Awards Banquet&nbsp\;is a premier event each year offering a variety of sponsorship opportunities.&nbsp\;</span></span></span><br />\n<br />\n<span font-size:="" open="" style="box-sizing:border-box\;"><span open="" style="box-sizing:border-box\;"><a href="https://business.georgetownchamber.org/form/view/31509" target="_blank"><span style="color:#B22222\;">Choose your sponsorship by following this link.</span></a></span></span><br />\n<br />\n<span style="color:#000000\;"><span font-size:="" open="">Tables of 8 can be reserved for $600.&nbsp\;&nbsp\;Individual tickets are $75 per person/general admission&nbsp\;(Member pricing).<br />\n<br />\nClick the &quot\;register now&quot\; button above to secure your seat and sponsorship.&nbsp\;</span></span><br style="box-sizing:border-box\;" />\n<br />\n<span style="color:#000000\;"><strong>Schedule:</strong><br />\n6:00pm&nbsp\;- Reception Hour and Guests Check-in<br />\n7:00pm - Dinner &amp\; Dessert\, followed by the awards presentation</span></span></span><br />\n<br />\n<strong style="color: rgb(0\, 0\, 0)\; font-family: arial\; font-size: 18px\;">Attire:</strong><br style="color: rgb(0\, 0\, 0)\; font-family: arial\; font-size: 18px\;" />\n<span style="color: rgb(0\, 0\, 0)\; font-family: arial\; font-size: 18px\;">Business Attire/Cocktail attire<br />\n<br />\n<strong>Diamond Sponsor - $2\,500</strong><br />\nSponsor recognition on event materials<br />\nRecognition in advance publicity: newsletter\, website and social media Recognition in event program<br />\nRecognition from the podium during event<br />\nReserved table for eight in prime location<br />\nCorporate identification at table&nbsp\;<br />\n<br />\n<strong>Ruby Reception Sponsor - $2\,000 (Only 1 Available)&nbsp\;</strong><br />\nBusiness logo included on beverage napkins<br />\nSponsor recognition on event materials<br />\nRecognition in advance publicity: newsletter\, website and social media Recognition in event program<br />\nRecognition from the podium during event<br />\nReserved seating for eight people<br />\n<br />\n<strong>Sapphire Sponsor - $1\,500&nbsp\;</strong><br />\nSponsor recognition on event materials<br />\nRecognition in advance publicity: newsletter\, website and social media<br />\nRecognition from the podium during event<br />\nReserved seating for four people</span><br />\n<br />\n<span style="color: rgb(0\, 0\, 0)\; font-family: arial\; font-size: 18px\;"><strong>Photography Provided by:&nbsp\;</strong><br />\n<a href="https://www.brettgstudios.com/">Brett G Studios</a><br />\n<br />\n<strong>Centerpieces Provided by:&nbsp\;</strong></span><br />\n<a href="https://www.highpointeestate.com/"><span style="font-family: arial\; font-size: 18px\;">HighPointe Estate</span></a><br />\n<br />\n<span style="color: rgb(0\, 0\, 0)\; font-family: arial\; font-size: 18px\;"><strong>Silent Auction Items Provided by:&nbsp\;</strong></span><br />\n<font face="arial"><span style="font-size: 18px\;">City Post\, Chisholm Trail Financial Group\, Eagles Wings Home Improvement Services\, Embassy Suites\, Faith in Action\, Fish City Grill\, Forward Financial\, Flourish Nutritional Therapy\, Georgetown Country Club\, Georgetown Counseling and Wellness\, Georgetown TV and Audio\, Mesquite Creek Outfitters\, Nothing Bundt Cakes\, </span></font><span style="font-size:18px\;"><span style="font-family:arial\;">Novita Beauty and Regenerative Wellness</span></span><font face="arial"><span style="font-size: 18px\;"><span style="font-family:arial\;">\,</span> Outlaws &amp\; Gypsies\, Raising Canes\, ROCK\, Ron Parks Photography\, San Gabriel House\, Sheraton Austin Georgetown Hotel and Conference Center\, Spa Luxe\, Tail Waggins Dog Bakery\, The Georgetown Project\, The Hacienda\, The Purple Guys\, THIE\, Timeless Imports\, Walburg Community Center\, Whataburger\, Wildfire\, Chamber Ambassadors</span></font></p>\n
LOCATION:The Sheraton Austin Georgetown Hotel & Conference Center 1101 Woodlawn Ave\, Georgetown\, TX 78628
UID:e.3550.7322
SEQUENCE:3
DTSTAMP:20260421T021436Z
URL:https://business.georgetownchamber.org/events/details/2024-annual-awards-banquet-7322
END:VEVENT

END:VCALENDAR
