BEGIN:VCALENDAR
VERSION:2.0
PRODID:-//ChamberMaster//Event Calendar 2.0//EN
METHOD:PUBLISH
X-PUBLISHED-TTL:P3D
REFRESH-INTERVAL:P3D
CALSCALE:GREGORIAN
BEGIN:VEVENT
DTSTART:20240118T133000Z
DTEND:20240118T150000Z
X-MICROSOFT-CDO-ALLDAYEVENT:FALSE
SUMMARY:2024 Breakfast Links January
DESCRIPTION:Breakfast Links\n\n Breakfast Links is designed to bring key speakers to discuss significant issues of the day and how those issues impact local businesses. Join us for breakfast as we hear from Commissioner Valerie Covey. She will lead the conversation with county updates related to the business community.  \n\n \n\nGuest Speaker: Commissioner Valerie Covey\n\nValerie Covey is the elected representative of Precinct Three on the Williamson County Commissioner's Court. Commissioner Covey is a county leader committed to her conservative beliefs\, family values\, and mental health issues. She participates on various boards and committees\, works to reduce voter-approved debt each budget year since 2015\, and is responsible for opening several roads and safety improvements throughout the county. Commissioner Covey is also an active member of various community organizations and has been licensed as a Certified Public Accountant for over 35 years.\n\n\n\nSponsored By: AVAILABLE\, contact us today!\n\n\n\nSchedule of Events:\n\n7:30 AM - Breakfast & Networking\n\n8:00 AM - Presentation\n\n9:00 AM - Event Ends\n\n \n\nCatering Provided By: BiG- Brookwood in Georgetown\n\n \n\nBreakfast Links is a professional event where local businesses come together and hear an update from leaders in our community.
X-ALT-DESC;FMTTYPE=text/html:<p 16px="" font-size:="" open="" style="box-sizing: border-box\; margin-top: 0px\; margin-bottom: 1rem\; color: rgb(47\, 47\, 47)\; font-family: "><strong><span style="font-size:22px\;"><span style="font-family:arial\;">Breakfast Links</span></span></strong></p>\n\n<p 16px="" font-size:="" open="" style="box-sizing: border-box\; margin-top: 0px\; margin-bottom: 1rem\; color: rgb(47\, 47\, 47)\; font-family: "><span style="font-family:arial\;"><span style="font-size:18px\;"><span id="cke_bm_116S" style="display: none\;">&nbsp\;</span>Breakfast Links is designed to bring key speakers to discuss significant issues of the day and how those issues impact local businesses.&nbsp\;Join us&nbsp\;for breakfast as we hear from&nbsp\;Commissioner Valerie Covey. She will lead the conversation with&nbsp\;county updates related to the business community.&nbsp\;<span id="cke_bm_116E" style="display: none\;">&nbsp\;</span></span></span></p>\n\n<p 16px="" font-size:="" open="" style="box-sizing: border-box\; margin-top: 0px\; margin-bottom: 1rem\; color: rgb(47\, 47\, 47)\; font-family: "><span style="font-family:arial\;"><span style="font-size:18px\;">&nbsp\;<br />\nGuest Speaker: Commissioner Valerie Covey<br />\n<span style="background:white\;">Valerie Covey is the elected representative of Precinct Three on the Williamson County Commissioner&#39\;s Court. Commissioner Covey is a county leader committed to her conservative beliefs\, family values\, and mental health issues. She participates on various boards and committees\, works to reduce voter-approved debt each budget year since 2015\, and is responsible for opening several roads and safety improvements throughout the county. Commissioner Covey is also an active member of various community organizations and has been licensed as a Certified Public Accountant for over 35 years.</span></span></span><br />\n<br />\n<span style="font-family:arial\;"><span style="font-size:18px\;">Sponsored By: AVAILABLE\, contact us today!</span></span><br />\n<br />\n<span style="font-family:arial\;"><span style="font-size:18px\;">Schedule of Events:<br />\n7:30 AM - Breakfast &amp\; Networking<br />\n8:00 AM - Presentation<br />\n9:00 AM - Event Ends<br />\n&nbsp\;<br />\nCatering Provided By: BiG- Brookwood in Georgetown<br />\n&nbsp\;<br />\n<em>Breakfast Links is a professional event where local businesses come together and hear an update from leaders in our community.</em></span></span></p>\n
LOCATION:Georgetown Chamber of Commerce 1 Chamber Way Georgetown\, TX 78626
UID:e.3550.7375
SEQUENCE:3
DTSTAMP:20260421T021206Z
URL:https://business.georgetownchamber.org/events/details/2024-breakfast-links-january-7375
END:VEVENT

END:VCALENDAR
