BEGIN:VCALENDAR
VERSION:2.0
PRODID:-//ChamberMaster//Event Calendar 2.0//EN
METHOD:PUBLISH
X-PUBLISHED-TTL:P3D
REFRESH-INTERVAL:P3D
CALSCALE:GREGORIAN
BEGIN:VEVENT
DTSTART:20241202T190000Z
DTEND:20241202T200000Z
X-MICROSOFT-CDO-ALLDAYEVENT:FALSE
SUMMARY:2024 CANCELED: Marketing Program
DESCRIPTION:THIS MONTHS MARKETING PROGRAM HAS BEEN CANCELED. WE LOOK FORWARD TO SEEING YOU AFTER THE NEW YEAR!\n\n\n\nPurpose: Gain greater brand awareness\, attract more clients and grow your business in Georgetown utilizing cutting-edge strategies\, tools\, tactics\, and tips. This program is interactive to help you get actionable marketing ideas.\n\n\n\nFormat: Roundtable   Discussion\n\n\n\nHosts:\n\nCarolyn Cummins - Santosha Solutions: Marketing and Social Media Coach\n\nLaura Terry - Grayson Media and Marketing
X-ALT-DESC;FMTTYPE=text/html:<span style="font-size:16px\;"><span style="font-family:arial\;"><span style="color:#B22222\;"><strong>THIS MONTHS MARKETING PROGRAM HAS BEEN CANCELED. WE LOOK FORWARD TO SEEING YOU AFTER THE NEW YEAR!</strong></span><br />\n<br />\n<span style="color:black\;"><strong>Purpose</strong>: Gain greater brand awareness\, attract more clients and grow your business in Georgetown utilizing cutting-edge strategies\, tools\, tactics\, and tips. This program is interactive to help you get actionable marketing ideas.</span><br />\n<br />\n<span style="line-height: 107%\; color: black\; background-image: initial\; background-position: initial\; background-size: initial\; background-repeat: initial\; background-attachment: initial\; background-origin: initial\; background-clip: initial\;"><strong>Format</strong>: Roundtable &ndash\; Discussion</span><br />\n<br />\n<span style="color:black\;"><strong>Hosts:</strong><br />\nCarolyn Cummins - <a href="https://santoshasolutions.com/">Santosha Solutions: Marketing and Social Media Coach</a><br />\nLaura Terry - <a href="https://www.grayson-media.com/contact">Grayson Media and Marketing&nbsp\;</a></span></span></span>
LOCATION:Georgetown Chamber of Commerce 1 Chamber Way Georgetown\, TX\, 78626
UID:e.3550.7491
SEQUENCE:3
DTSTAMP:20260420T131553Z
URL:https://business.georgetownchamber.org/events/details/2024-canceled-marketing-program-7491
END:VEVENT

END:VCALENDAR
