BEGIN:VCALENDAR
VERSION:2.0
PRODID:-//ChamberMaster//Event Calendar 2.0//EN
METHOD:PUBLISH
X-PUBLISHED-TTL:P3D
REFRESH-INTERVAL:P3D
CALSCALE:GREGORIAN
BEGIN:VEVENT
DTSTART:20240304T190000Z
DTEND:20240304T200000Z
X-MICROSOFT-CDO-ALLDAYEVENT:FALSE
SUMMARY:2024 Marketing Program
DESCRIPTION:Purpose: Gain greater brand awareness\, attract more clients and grow your business in Georgetown utilizing cutting-edge strategies\, tools\, tactics\, and tips. This program is interactive to help you get actionable marketing ideas.\n\n\n\nHave you noticed that local businesses often struggle to make their mark on social media because their copy doesn't quite resonate with the audience. We're going to tackle this problem in our next Chamber Circle on Marketing. Please join us:\n\n	Monday\, March 4th\, from 1-2pm\, at the Georgetown Chamber of Commerce\n\nDuring this roundtable discussion\, we'll share practical tips to help you improve your copywriting skills.\n\n \n\nTo prepare\, please collect examples of past social media posts that didn't get the engagement you'd hoped for! We'll help you rewrite those posts using a proven storytelling framework so you can attract and engage more followers on social media.\n\n\n\nHosts:\n\nCarolyn Cummins - Santosha Solutions: Marketing and Social Media Coach\n\nLaura Terry - Grayson Media and Marketing
X-ALT-DESC;FMTTYPE=text/html:<span style="font-size:18px\;"><span style="font-family:arial\;"><strong>Purpose</strong>: Gain greater brand awareness\, attract more clients and grow your business in Georgetown utilizing cutting-edge strategies\, tools\, tactics\, and tips. This program is interactive to help you get actionable marketing ideas.</span><br />\n<br />\n<span style="font-family:arial\;">Have you noticed that local businesses often struggle to make their mark on social media because their copy doesn&#39\;t quite resonate with the audience. We&#39\;re going to tackle this problem in our next Chamber Circle on Marketing. Please join us:</span></span>\n<ul>\n	<li><span style="font-size:18px\;"><span style="font-family:arial\;">Monday\, March 4th\, from 1-2pm\, at the Georgetown Chamber of Commerce</span></span></li>\n</ul>\n<span style="font-size:18px\;"><span style="font-family:arial\;"><span style="background-color:var(--color-content)\;">During this roundtable discussion\, we&#39\;ll share practical tips to help you improve your copywriting skills.</span><br />\n&nbsp\;<br />\nTo prepare\, please collect examples of past social media posts that didn&#39\;t get the engagement you&#39\;d hoped for! We&#39\;ll help you rewrite those posts using a proven storytelling framework so you can attract and engage more followers on social media.<br />\n<br />\n<span style="color:black\;"><strong>Hosts:</strong><br />\nCarolyn Cummins - <a href="https://santoshasolutions.com/">Santosha Solutions: Marketing and Social Media Coach</a><br />\nLaura Terry - <a href="https://www.grayson-media.com/contact">Grayson Media and Marketing&nbsp\;</a></span></span></span>
LOCATION:Georgetown Chamber of Commerce 1 Chamber Way Georgetown\, TX\, 78626
UID:e.3550.7482
SEQUENCE:3
DTSTAMP:20260421T010056Z
URL:https://business.georgetownchamber.org/events/details/2024-marketing-program-7482
END:VEVENT

END:VCALENDAR
