BEGIN:VCALENDAR
VERSION:2.0
PRODID:-//ChamberMaster//Event Calendar 2.0//EN
METHOD:PUBLISH
X-PUBLISHED-TTL:P3D
REFRESH-INTERVAL:P3D
CALSCALE:GREGORIAN
BEGIN:VEVENT
DTSTART:20240108T190000Z
DTEND:20240108T200000Z
X-MICROSOFT-CDO-ALLDAYEVENT:FALSE
SUMMARY:2024 Marketing with Carolyn and Laura
DESCRIPTION:Hello Marketers! \n\n \n\nWe are starting off 2024 with a Q&A of any marketing challenges you are having. We will be at the Chamber to answer questions and share tips. In addition\, we will discuss planning strategies for 2024 marketing. \n\n\n\nCarolyn Cummins Santosha Solutions\n\nLaura Terry Grayson Media & Marketing
X-ALT-DESC;FMTTYPE=text/html:<span style="font-size:18px\;"><span style="font-family:arial\;">Hello Marketers!&nbsp\;<br />\n&nbsp\;<br />\nWe are starting off 2024 with a Q&amp\;A of any marketing challenges you are having. We will be at the Chamber to answer questions and share tips. In addition\, we will discuss planning strategies for 2024 marketing.&nbsp\;<br />\n<br />\nCarolyn Cummins&nbsp\;<a href="https://protection.cloze.email/r/PCWTh8nfxZjLv3YN0XuxYSWaU67NOej5xh0GQcQGfXYQySJuhDjXhOzJxdABZILsArfAs9LZADJNz2OhnV0ozue5MUM/n/U2FudG9zaGEgU29sdXRpb25z/santoshasolutions.com/" target="_blank">Santosha Solutions</a><br />\nLaura Terry&nbsp\;<a href="https://protection.cloze.email/r/PCWTh8nfxZjLv3YN0XuxYZlJQFl9cVl3dIIEt925HPQOz8aabRNcb3K7iyX0gmp7Ahrwaf3YH5W3wxHBnAWzHiYG84I/n/R3JheXNvbiBNZWRpYSAmIE1hcmtldGluZw/www.grayson-media.com/" target="_blank">Grayson Media &amp\;&nbsp\;<span style="text-decoration-line:none\;"><span style="color:blue\;">Marketing</span></span></a></span></span>
LOCATION:Georgetown Chamber of Commerce 1 Chamber Way Georgetown\, TX 78626
UID:e.3550.7392
SEQUENCE:3
DTSTAMP:20260421T021926Z
URL:https://business.georgetownchamber.org/events/details/2024-marketing-with-carolyn-and-laura-7392
END:VEVENT

END:VCALENDAR
