BEGIN:VCALENDAR
VERSION:2.0
PRODID:-//ChamberMaster//Event Calendar 2.0//EN
METHOD:PUBLISH
X-PUBLISHED-TTL:P3D
REFRESH-INTERVAL:P3D
CALSCALE:GREGORIAN
BEGIN:VEVENT
DTSTART:20241211T160000Z
DTEND:20241211T170000Z
X-MICROSOFT-CDO-ALLDAYEVENT:FALSE
SUMMARY:2024 Public Speaking Program
DESCRIPTION:PUBLIC SPEAKING\n\n\n\nPurpose: Whatever your comfort level with public speaking\, this group will provide tips and strategies designed to make you a better speaker and increase your confidence in your speaking ability. \n\n\n\nFormat: In person\n\n\n\nHost: Kent Cummins (Magic Hotline)
X-ALT-DESC;FMTTYPE=text/html:<span style="font-size:22px\;"><strong><font face="arial">PUBLIC SPEAKING</font></strong></span><br />\n<br style="color: rgb(47\, 47\, 47)\;" />\n<span style="font-size:18px\;"><span style="font-family:arial\;"><span style="color: rgb(0\, 0\, 0)\;">Purpose:&nbsp\;Whatever your comfort level with public speaking\, this group will provide tips and strategies designed to make you a better speaker and increase your confidence in your speaking ability.&nbsp\;</span><br style="color: rgb(47\, 47\, 47)\;" />\n<br style="color: rgb(47\, 47\, 47)\;" />\n<span style="color: rgb(0\, 0\, 0)\;">Format: In person<br />\n<br />\nHost: Kent Cummins (<a href="http://www.kentcummins.com">Magic Hotline</a>)</span></span></span><br />\n&nbsp\;\n<div style="clear:both\;">&nbsp\;</div>\n
LOCATION:Georgetown Chamber of Commerce 1 Chamber Way Georgetown\, TX 78626
UID:e.3550.8770
SEQUENCE:3
DTSTAMP:20260420T131459Z
URL:https://business.georgetownchamber.org/events/details/2024-public-speaking-program-8770
END:VEVENT

END:VCALENDAR
