BEGIN:VCALENDAR
VERSION:2.0
PRODID:-//ChamberMaster//Event Calendar 2.0//EN
METHOD:PUBLISH
X-PUBLISHED-TTL:P3D
REFRESH-INTERVAL:P3D
CALSCALE:GREGORIAN
BEGIN:VEVENT
DTSTART:20220706T163000Z
DTEND:20220706T180000Z
X-MICROSOFT-CDO-ALLDAYEVENT:FALSE
SUMMARY:Ambassador Lunch
DESCRIPTION:The Ambassador Committee meets monthly to discuss upcoming Chamber events & other Chamber updates\, recognize the Ambassador of the month and network with each other. At some of the lunches\, there is a brief presentation from the host location.\n\n\n\nNew Member Spotlight is featuring: \n\nSouthern Dutch Artisan Eats\n\nSign 7
X-ALT-DESC;FMTTYPE=text/html:<span style="font-size:14px\;"><span style="font-family:arial\;">The Ambassador Committee meets monthly to discuss upcoming Chamber events &amp\; other Chamber updates\, recognize the Ambassador of the month and network with each other. At some of the lunches\, there is a brief presentation from the host location.<br />\n<br />\nNew Member Spotlight is featuring:&nbsp\;<br />\nSouthern Dutch Artisan Eats<br />\nSign 7</span></span>
LOCATION:Mel's Bowling 1010 N. Austin Avenue Georgetown\, Texas
UID:e.3550.4396
SEQUENCE:3
DTSTAMP:20260422T015040Z
URL:https://business.georgetownchamber.org/events/details/ambassador-lunch-07-06-2022-4396
END:VEVENT

END:VCALENDAR
