BEGIN:VCALENDAR
VERSION:2.0
PRODID:-//ChamberMaster//Event Calendar 2.0//EN
METHOD:PUBLISH
X-PUBLISHED-TTL:P3D
REFRESH-INTERVAL:P3D
CALSCALE:GREGORIAN
BEGIN:VEVENT
DTSTART:20210505T170000Z
DTEND:20210505T180000Z
X-MICROSOFT-CDO-ALLDAYEVENT:FALSE
SUMMARY:Ambassador Lunch May 5\, 2021
DESCRIPTION:The Ambassador Committee meets monthly to discuss upcoming Chamber events\, review past event attendance\, recognize the Ambassador of the month and network with each other. At some of the lunches\, there is a brief presentation from the host location.\n\n\n\nRSVP is required for in person. Pre-registration ends at 3pm the day prior to the event.
X-ALT-DESC;FMTTYPE=text/html:The Ambassador Committee meets monthly to discuss upcoming Chamber events\, review past event attendance\, recognize the Ambassador of the month and network with each other. At some of the lunches\, there is a brief presentation from the host location.<br />\n<br />\nRSVP is required for in person. Pre-registration ends at 3pm the day prior to the event.&nbsp\;
LOCATION:In Person or Virtual Georgetown Chamber of Commerce 1 Chamber Way Georgetown\, TX 78626
UID:e.3550.2610
SEQUENCE:3
DTSTAMP:20260424T181108Z
URL:https://business.georgetownchamber.org/events/details/ambassador-lunch-may-5-2021-2610
END:VEVENT

END:VCALENDAR
