BEGIN:VCALENDAR
VERSION:2.0
PRODID:-//ChamberMaster//Event Calendar 2.0//EN
METHOD:PUBLISH
X-PUBLISHED-TTL:P3D
REFRESH-INTERVAL:P3D
CALSCALE:GREGORIAN
BEGIN:VEVENT
DTSTART:20231016T170000Z
DTEND:20231017T000000Z
X-MICROSOFT-CDO-ALLDAYEVENT:FALSE
SUMMARY:Annunciation Maternity Home Golf Tournament
DESCRIPTION:Annunciation Maternity Home is excited to be bringing back its annual golf tournament after three years. Come join us for a fun day of golf and games!
X-ALT-DESC;FMTTYPE=text/html:<span style="font-size:18px\;">Annunciation Maternity Home is excited to be bringing back its annual golf tournament after three years. Come join us for a fun day of golf and games!</span>
LOCATION:White Wing Golf Course\, Sun City
UID:e.3550.7183
SEQUENCE:3
DTSTAMP:20260421T055102Z
URL:https://business.georgetownchamber.org/events/details/annunciation-maternity-home-golf-tournament-7183
END:VEVENT

END:VCALENDAR
