BEGIN:VCALENDAR
VERSION:2.0
PRODID:-//ChamberMaster//Event Calendar 2.0//EN
METHOD:PUBLISH
X-PUBLISHED-TTL:P3D
REFRESH-INTERVAL:P3D
CALSCALE:GREGORIAN
BEGIN:VEVENT
DTSTART:20240218T213000Z
DTEND:20240219T013000Z
X-MICROSOFT-CDO-ALLDAYEVENT:FALSE
SUMMARY:Bentwood Texas Open House
DESCRIPTION:Join us for our upcoming Open House\, where you can tour beautiful property\, enjoy delicious food and beverage samples\, and meet some of the Event Industry's top vendors! \n\n\n\nBentwood Texas has evolved as a space deeply connected to family\, friendships\, and meaningful celebrations. From hosting milestone birthdays to community gatherings\, our venue has witnessed a myriad of events that reflect the spirit of shared experiences. Bentwood\, once a private retreat\, has transformed into a versatile space eager to share its charm with you!\n\nJust minutes from Historic Downtown Georgetown\, our breathtaking landscape sits on 14 acres and has over 10\,000 square feet of reception space\, and has options for relaxing overnight accommodations.\n\n\n\nTickets are FREE! RSVP here via EventBrite!
X-ALT-DESC;FMTTYPE=text/html:<p><span style="background-color:rgb(255\, 255\, 255)\; color:rgb(34\, 34\, 34)\; font-family:arial\,sans-serif\; font-size:14.6667px">Join us for our upcoming Open House\, where you can tour beautiful property\, enjoy delicious food and beverage samples\, and meet some of the Event Industry&#39\;s top vendors!&nbsp\;</span><br />\n<br />\n<span style="background-color:transparent\; color:rgb(34\, 34\, 34)\; font-family:arial\,sans-serif\; font-size:11pt">Bentwood Texas has evolved as a space deeply connected to family\, friendships\, and meaningful celebrations. From hosting milestone birthdays to community gatherings\, our venue has witnessed a myriad of events that reflect the spirit of shared experiences. Bentwood\, once a private retreat\, has transformed into a versatile space eager to share its charm with you!</span></p>\n\n<p><span style="background-color:transparent\; color:rgb(34\, 34\, 34)\; font-family:arial\,sans-serif\; font-size:11pt">Just minutes from Historic Downtown Georgetown\, our breathtaking landscape sits on 14 acres and has over 10\,000 square feet of reception space\, and has options for relaxing overnight accommodations.<br />\n<br />\nTickets are FREE! <a href="https://www.eventbrite.com/e/bentwood-texas-open-house-tickets-799201442027?aff=oddtdtcreator">RSVP here</a> via EventBrite!&nbsp\;</span></p>\n
LOCATION:Bentwood Texas 8150 Highway 29 E.\, Georgetown\, TX 78626
UID:e.3550.7496
SEQUENCE:3
DTSTAMP:20260421T021312Z
URL:https://business.georgetownchamber.org/events/details/bentwood-texas-open-house-7496
END:VEVENT

END:VCALENDAR
