BEGIN:VCALENDAR
VERSION:2.0
PRODID:-//ChamberMaster//Event Calendar 2.0//EN
METHOD:PUBLISH
X-PUBLISHED-TTL:P3D
REFRESH-INTERVAL:P3D
CALSCALE:GREGORIAN
BEGIN:VEVENT
DTSTART:20200220T230000Z
DTEND:20200221T010000Z
X-MICROSOFT-CDO-ALLDAYEVENT:FALSE
SUMMARY:Business After Hours
DESCRIPTION:Held the third Thursday of the month from 5-7pm at the host business. Network with other Chamber members while enjoying complimentary refreshments. No RSVP needed. Free event.
X-ALT-DESC;FMTTYPE=text/html:Held the third Thursday of the month from 5-7pm at the host business. Network with other Chamber members while enjoying complimentary refreshments. No RSVP needed. Free event.<br />\n&nbsp\;
LOCATION:Mansions 54 5401 N. Mays St. Georgetown\, TX. 78626
UID:e.3550.1403
SEQUENCE:3
DTSTAMP:20260425T135930Z
URL:https://business.georgetownchamber.org/events/details/business-after-hours-02-20-2020-1403
END:VEVENT

END:VCALENDAR
