BEGIN:VCALENDAR
VERSION:2.0
PRODID:-//ChamberMaster//Event Calendar 2.0//EN
METHOD:PUBLISH
X-PUBLISHED-TTL:P3D
REFRESH-INTERVAL:P3D
CALSCALE:GREGORIAN
BEGIN:VEVENT
DTSTART:20200211T170000Z
DTEND:20200211T190000Z
X-MICROSOFT-CDO-ALLDAYEVENT:FALSE
SUMMARY:Business Network Lunch
DESCRIPTION:Join approximately 100 Chamber members for great food and networking as well a brief update from the City and from Georgetown ISD. This monthly luncheon\, on the 2nd Tuesday of each month\, allows Chamber members to introduce themselves and learn about other members' businesses.\n\n \n\nSponsored by:\n\n \n\n\n\n \n\nSchedule:\n\n11:00 AM - Networking and lunch\n\n12:00 PM - Meeting \n\n12:50 PM - Door prizes and announcements
X-ALT-DESC;FMTTYPE=text/html:<p><span style="font-size:16px\;"><span style="font-family:arial\;">Join approximately 100 Chamber members for great food and networking as well a brief update from the City and from Georgetown ISD. This monthly luncheon\, on the 2nd Tuesday of each month\, allows Chamber members to introduce themselves and learn about other members&#39\; businesses.</span></span></p>\n\n<p>&nbsp\;</p>\n\n<p><em><span style="font-size:14px\;"><span style="font-family:arial\;"><strong>Sponsored by:</strong></span></span></em><br />\n&nbsp\;</p>\n\n<p><br />\n&nbsp\;</p>\n\n<p><strong><em><span style="font-size:14px\;"><span style="font-family:arial\;">Schedule:</span></span></em></strong><br />\n<span style="font-size:14px\;"><span style="font-family:arial\;">11:00 AM - Networking and lunch<br />\n12:00 PM - Meeting&nbsp\;<br />\n12:50 PM - Door prizes and announcements</span></span></p>\n\n<p><br />\n&nbsp\;</p>\n\n<p>&nbsp\;</p>\n
LOCATION:Reunion Ranch 850 Co Rd 255 Georgetown\, TX 78633
UID:e.3550.1222
SEQUENCE:3
DTSTAMP:20260425T135931Z
URL:https://business.georgetownchamber.org/events/details/business-network-lunch-02-11-2020-1222
END:VEVENT

END:VCALENDAR
