BEGIN:VCALENDAR
VERSION:2.0
PRODID:-//ChamberMaster//Event Calendar 2.0//EN
METHOD:PUBLISH
X-PUBLISHED-TTL:P3D
REFRESH-INTERVAL:P3D
CALSCALE:GREGORIAN
BEGIN:VEVENT
DTSTART:20250218T183000Z
DTEND:20250218T190000Z
X-MICROSOFT-CDO-ALLDAYEVENT:FALSE
SUMMARY:Estate Planning in 2025 for Married Couples Webinar
DESCRIPTION:What to Expect at This Event During this 30-minute webinar\, you will gain practical insights into the key aspects of estate planning\, tailored specifically for married couples. Topics covered will include: Protecting Your Wealth | Stay informed with the latest strategies to safeguard your assets\, property\, and investments. Planning for the Unknown | Understand the critical roles of wills\, trusts\, and powers of attorney Starting Your Estate Planning Journey | Get an actionable timeline and expert advice on how to begin your estate planning\, no matter where you are in the process. This informative session\, running from 12:30 PM to 1:00 PM\, will equip you with the essential tools to plan for the future\, ensuring your family's financial security.
X-ALT-DESC;FMTTYPE=text/html:What to Expect at This Event During this 30-minute webinar\, you will gain practical insights into the key aspects of estate planning\, tailored specifically for married couples. Topics covered will include: Protecting Your Wealth | Stay informed with the latest strategies to safeguard your assets\, property\, and investments. Planning for the Unknown | Understand the critical roles of wills\, trusts\, and powers of attorney Starting Your Estate Planning Journey | Get an actionable timeline and expert advice on how to begin your estate planning\, no matter where you are in the process. This informative session\, running from 12:30 PM to 1:00 PM\, will equip you with the essential tools to plan for the future\, ensuring your family&#39\;s financial security.
LOCATION:You will be sent a unique Zoom link upon registration. Registration Link: https://us06web.zoom.us/webinar/register/WN_JRTotp5nQNa00d0GMM7e4Q#/registration
UID:e.3550.9403
SEQUENCE:3
DTSTAMP:20260420T132009Z
URL:https://business.georgetownchamber.org/events/details/estate-planning-in-2025-for-married-couples-webinar-9403
END:VEVENT

END:VCALENDAR
