BEGIN:VCALENDAR
VERSION:2.0
PRODID:-//ChamberMaster//Event Calendar 2.0//EN
METHOD:PUBLISH
X-PUBLISHED-TTL:P3D
REFRESH-INTERVAL:P3D
CALSCALE:GREGORIAN
BEGIN:VEVENT
DTSTART:20250123T230000Z
DTEND:20250124T020000Z
X-MICROSOFT-CDO-ALLDAYEVENT:FALSE
SUMMARY:Floor And Decor Industry Networking Event
DESCRIPTION:Join Us for an Exclusive Networking Event!\n\nDate: January 23rd\n\nTime: 5:00 PM - 8:00 PM\n\nLocation: Floor and Decor\, Georgetown\n\nWe're excited to invite you to a special networking event at the new Floor and Decor location in Georgetown! Don't miss your chance to win amazing prizes\, including:\n\n\n	$10\,000 cash\n	FC tickets\n	Many other fantastic prizes\n\n\nEnjoy delicious food\, catered just for you\, while connecting with professionals in the industry. This is a great opportunity to meet new people\, expand your network\, and have some fun!\n\nWe look forward to seeing you there!
X-ALT-DESC;FMTTYPE=text/html:<p><span style="font-size:18px\;"><span style="font-family:arial\;"><strong>Join Us for an Exclusive Networking Event!</strong></span></span></p>\n\n<p><span style="font-size:18px\;"><span style="font-family:arial\;">Date: <strong>January 23rd</strong><br />\nTime: <strong>5:00 PM - 8:00 PM</strong><br />\nLocation: <strong>Floor and Decor\, Georgetown</strong></span></span></p>\n\n<p><span style="font-size:18px\;"><span style="font-family:arial\;">We&rsquo\;re excited to invite you to a special networking event at the new Floor and Decor location in Georgetown! Don&rsquo\;t miss your chance to win amazing prizes\, including:</span></span></p>\n\n<ul>\n	<li><span style="font-size:18px\;"><span style="font-family:arial\;"><strong>$10\,000 cash</strong></span></span></li>\n	<li><span style="font-size:18px\;"><span style="font-family:arial\;"><strong>FC tickets</strong></span></span></li>\n	<li><span style="font-size:18px\;"><span style="font-family:arial\;"><strong>Many other fantastic prizes</strong></span></span></li>\n</ul>\n\n<p><span style="font-size:18px\;"><span style="font-family:arial\;">Enjoy delicious food\, catered just for you\, while connecting with professionals in the industry. This is a great opportunity to meet new people\, expand your network\, and have some fun!</span></span></p>\n\n<p><span style="font-size:18px\;"><span style="font-family:arial\;">We look forward to seeing you there!</span></span></p>\n
LOCATION:1101 South I 35 Georgetown TX\, 78626
UID:e.3550.8970
SEQUENCE:3
DTSTAMP:20260420T161606Z
URL:https://business.georgetownchamber.org/events/details/floor-and-decor-industry-networking-event-8970
END:VEVENT

END:VCALENDAR
