BEGIN:VCALENDAR
VERSION:2.0
PRODID:-//ChamberMaster//Event Calendar 2.0//EN
METHOD:PUBLISH
X-PUBLISHED-TTL:P3D
REFRESH-INTERVAL:P3D
CALSCALE:GREGORIAN
BEGIN:VEVENT
DTSTART:20240117T230000Z
DTEND:20240118T010000Z
X-MICROSOFT-CDO-ALLDAYEVENT:FALSE
SUMMARY:Georgetown Christian Academy Open House
DESCRIPTION:Discover the exceptional learning environment at Georgetown Christian Academy by joining us for an Open House dedicated to the 2024-2025 school year on Wednesday\, January 17th\, from 5-7 PM. This complimentary event\, open to the public\, offers an invaluable opportunity to gather insights about GCA and assess if it aligns with your family's educational aspirations. Serving the Georgetown community with dedication since 2009\, GCA takes pride in its tenured faculty\, small class sizes\, and commitment to robust academic standards\, complemented by Biblical teaching. Our private school\, catering to kindergarten through 5th grade\, places a strong emphasis on nurturing both spiritual and academic growth. Come meet our principal\, amazing teachers\, and explore our campus located at 3309 Shell Rd\, Georgetown\, TX 786. F28or more information\, visit www.gcagtx.org. We look forward to welcoming you on January 17th for an enriching experience!
X-ALT-DESC;FMTTYPE=text/html:Discover the exceptional learning environment at Georgetown Christian Academy by joining us for an Open House dedicated to the 2024-2025 school year on Wednesday\, January 17th\, from 5-7 PM. This complimentary event\, open to the public\, offers an invaluable opportunity to gather insights about GCA and assess if it aligns with your family&#39\;s educational aspirations. Serving the Georgetown community with dedication since 2009\, GCA takes pride in its tenured faculty\, small class sizes\, and commitment to robust academic standards\, complemented by Biblical teaching. Our private school\, catering to kindergarten through 5th grade\, places a strong emphasis on nurturing both spiritual and academic growth. Come meet our principal\, amazing teachers\, and explore our campus located at 3309 Shell Rd\, Georgetown\, TX 786. F28or more information\, visit www.gcagtx.org. We look forward to welcoming you on January 17th for an enriching experience!
LOCATION:3309 Shell Rd.\, Georgetown\, TX 78628
UID:e.3550.7398
SEQUENCE:3
DTSTAMP:20260421T021718Z
URL:https://business.georgetownchamber.org/events/details/georgetown-christian-academy-open-house-7398
END:VEVENT

END:VCALENDAR
