BEGIN:VCALENDAR
VERSION:2.0
PRODID:-//ChamberMaster//Event Calendar 2.0//EN
METHOD:PUBLISH
X-PUBLISHED-TTL:P3D
REFRESH-INTERVAL:P3D
CALSCALE:GREGORIAN
BEGIN:VEVENT
DTSTART:20230907T140000Z
DTEND:20230907T170000Z
X-MICROSOFT-CDO-ALLDAYEVENT:FALSE
SUMMARY:Georgetown Veterans Job Fair
DESCRIPTION:Georgetown Veterans Job Fair\n\n9am-10am Exclusive to Veterans\n\n10am-12pm Open to All\n\n\n\nGeorgetown Community Center\n\n445 E Morrow St.\n\nGeorgetown\, TX  78626
X-ALT-DESC;FMTTYPE=text/html:<span style="font-size:18px\;"><span style="font-family:arial\;">Georgetown Veterans Job Fair<br />\n9am-10am Exclusive to Veterans<br />\n10am-12pm Open to All</span></span><br />\n<br />\nGeorgetown Community Center<br />\n445 E Morrow St.<br />\nGeorgetown\, TX&nbsp\; 78626
LOCATION:Georgetown Community Center 445 E Morrow St. Georgetown\, TX 78626
UID:e.3550.7220
SEQUENCE:3
DTSTAMP:20260421T065319Z
URL:https://business.georgetownchamber.org/events/details/georgetown-veterans-job-fair-7220
END:VEVENT

END:VCALENDAR
