BEGIN:VCALENDAR
VERSION:2.0
PRODID:-//ChamberMaster//Event Calendar 2.0//EN
METHOD:PUBLISH
X-PUBLISHED-TTL:P3D
REFRESH-INTERVAL:P3D
CALSCALE:GREGORIAN
BEGIN:VEVENT
DTSTART:20231201T200000Z
DTEND:20231202T000000Z
X-MICROSOFT-CDO-ALLDAYEVENT:FALSE
SUMMARY:Get Age Fit Grand Opening - Open House
DESCRIPTION:Hey\, Georgetown! You're invited to join us for our GRAND OPENING CELEBRATION on Friday\, December 1st from 2-6pm! This event is FREE and open to the public.\n\n\n\n  Enjoy food\, fun\, and an incredible raffle! \n\n  Tour the new studio\n\n  Meet the trainers\n\n\n\nBe among the first in Georgetown to see our new 8\,000 square foot facility located at 3626 Williams Drive!
X-ALT-DESC;FMTTYPE=text/html:<div>\n<div><span style="font-family:arial\;"><span style="font-size:18px\;">Hey\, Georgetown! You&#39\;re invited to join us for our GRAND OPENING CELEBRATION on Friday\, December 1st from 2-6pm! This event is FREE and open to the public.</span></span></div>\n</div>\n\n<div>\n<div><span style="font-family:arial\;"><span style="font-size:18px\;">&bull\; Enjoy food\, fun\, and an incredible raffle!&nbsp\;</span></span></div>\n\n<div><span style="font-family:arial\;"><span style="font-size:18px\;">&bull\; Tour the new studio</span></span></div>\n\n<div><span style="font-family:arial\;"><span style="font-size:18px\;">&bull\; Meet the trainers</span></span></div>\n</div>\n\n<div>\n<div><span style="font-family:arial\;"><span style="font-size:18px\;">Be among the first in Georgetown to see our new 8\,000 square foot facility located at 3626 Williams Drive!</span></span></div>\n</div>\n
LOCATION:3626 Williams Drive\, Georgetown\, TX\, 78628
UID:e.3550.7326
SEQUENCE:3
DTSTAMP:20260421T031948Z
URL:https://business.georgetownchamber.org/events/details/get-age-fit-grand-opening-open-house-7326
END:VEVENT

END:VCALENDAR
