BEGIN:VCALENDAR
VERSION:2.0
PRODID:-//ChamberMaster//Event Calendar 2.0//EN
METHOD:PUBLISH
X-PUBLISHED-TTL:P3D
REFRESH-INTERVAL:P3D
CALSCALE:GREGORIAN
BEGIN:VEVENT
DTSTART;VALUE=DATE:20260403
DTEND;VALUE=DATE:20260404
TRANSP:TRANSPARENT
X-MICROSOFT-CDO-ALLDAYEVENT:TRUE
SUMMARY:Good Friday- Chamber Office Closed
DESCRIPTION:The Georgetown Chamber of Commerce is closed for Good Friday. We will reopen on April 6 at 8 am.
X-ALT-DESC;FMTTYPE=text/html:<span style="color:#000000\;"><span style="font-size:18px\;"><span style="font-family:arial\;">The Georgetown Chamber of Commerce is closed for Good Friday.&nbsp\;</span></span><span style="font-family: arial\; font-size: 18px\;">We will reopen on April 6 at 8 am.</span></span>
LOCATION:
UID:e.3550.9706
SEQUENCE:3
DTSTAMP:20260422T160542Z
URL:https://business.georgetownchamber.org/events/details/good-friday-chamber-office-closed-9706
END:VEVENT

END:VCALENDAR
