BEGIN:VCALENDAR
VERSION:2.0
PRODID:-//ChamberMaster//Event Calendar 2.0//EN
METHOD:PUBLISH
X-PUBLISHED-TTL:P3D
REFRESH-INTERVAL:P3D
CALSCALE:GREGORIAN
BEGIN:VEVENT
DTSTART:20260514T190000Z
DTEND:20260514T203000Z
X-MICROSOFT-CDO-ALLDAYEVENT:FALSE
SUMMARY:Hill Country Authors Series presented by Friends of the Georgetown Public Library
DESCRIPTION:Tickets go on sale April 16 @ www.folgeorgetown.org. for the next HCAS.  Join us as we present Austin-based author Mark Pryor who will introduce and discuss his latest novel\, The Most Mysterious Bookshop in Paris.  This is a fundraising event for the Friends. Refreshments provided by Sweet Lemon Kitchen. Mark will sign books following his presentation.
X-ALT-DESC;FMTTYPE=text/html:<div style="text-align: center\;"><span style="font-size:18px\;"><span style="font-family:arial\;">Tickets go on sale April 16 @ www.folgeorgetown.org. for the next HCAS.&nbsp\; Join us as we present Austin-based author Mark Pryor who will introduce and discuss his latest novel\, <em><strong>The Most Mysterious Bookshop in Paris.&nbsp\;&nbsp\;</strong></em>This is a fundraising event for the Friends. Refreshments provided by Sweet Lemon Kitchen. Mark will sign books following his presentation.</span></span></div>\n
LOCATION:Georgetown Public Library 402 W. 8th Street Georgetown\, TX
UID:e.3550.9799
SEQUENCE:3
DTSTAMP:20260422T160055Z
URL:https://business.georgetownchamber.org/events/details/hill-country-authors-series-presented-by-friends-of-the-georgetown-public-library-9799
END:VEVENT

END:VCALENDAR
