BEGIN:VCALENDAR
VERSION:2.0
PRODID:-//ChamberMaster//Event Calendar 2.0//EN
METHOD:PUBLISH
X-PUBLISHED-TTL:P3D
REFRESH-INTERVAL:P3D
CALSCALE:GREGORIAN
BEGIN:VEVENT
DTSTART:20240212T210000Z
DTEND:20240213T000000Z
X-MICROSOFT-CDO-ALLDAYEVENT:FALSE
SUMMARY:Hill Country Salon Suites Valentine's Sip & See
DESCRIPTION:Beauty and Wellness Professionals\, come join us for a delightful evening at Hill Country Salon Suites! Fall in LOVE with your dream salon space this Valentine's Day! ??????\n\nDiscover your perfect space as we meet you at the door with champagne\, chocolate\, and strawberries. Look around\, mingle with other salon bosses\, get a new headshot\, and treat yourself to a mini-makeover at our Pop-Up Beauty Bar! Oh\, and did we mention... the chance to win one of many $200 Sephora gift cards!?!\n\nDon't miss out on this fabulous opportunity to scope out your new salon suite space\, make new connections and enjoy a memorable night out. RSVP for the Valentine's Sip & See and get ready for a love-filled evening!\n\nNeed to fall in love with a salon suite sooner? Call/text Melanie at 512-380-2502 to schedule your tour.
X-ALT-DESC;FMTTYPE=text/html:<p>Beauty and Wellness Professionals\, come join us for a delightful evening at&nbsp\;<a href="https://hcsalonsuites.com/" rel="nofollow noopener noreferrer" style="background-color: transparent\; text-decoration-line: none\; color: rgb(54\, 89\, 227)\; cursor: pointer\; box-sizing: border-box\; padding-top: 0px\;" target="_blank" title="https://hcsalonsuites.com"><strong>Hill Country Salon Suites</strong></a>! Fall in LOVE with your dream salon space this Valentine&#39\;s Day! ??????</p>\n\n<p>Discover your perfect space as we meet you at the door with champagne\, chocolate\, and strawberries. Look around\, mingle with other salon bosses\, get a new headshot\, and treat yourself to a mini-makeover at our Pop-Up Beauty Bar! Oh\, and did we mention... the chance to win one of many $200 Sephora gift cards!?!</p>\n\n<p>Don&#39\;t miss out on this fabulous opportunity to scope out your new salon suite space\, make new connections and enjoy a memorable night out. RSVP for the&nbsp\;<a href="https://www.eventbrite.com/e/valentines-sip-see-tickets-817001903687"><strong>Valentine&#39\;s Sip &amp\; See</strong>&nbsp\;</a>and get ready for a love-filled evening!</p>\n\n<p>Need to fall in love with a salon suite sooner? Call/text Melanie at 512-380-2502 to schedule your tour.</p>\n
LOCATION:5361 Williams Drive Georgetown\, TX 78633
UID:e.3550.7494
SEQUENCE:3
DTSTAMP:20260421T021540Z
URL:https://business.georgetownchamber.org/events/details/hill-country-salon-suites-valentine-s-sip-see-7494
END:VEVENT

END:VCALENDAR
