BEGIN:VCALENDAR
VERSION:2.0
PRODID:-//ChamberMaster//Event Calendar 2.0//EN
METHOD:PUBLISH
X-PUBLISHED-TTL:P3D
REFRESH-INTERVAL:P3D
CALSCALE:GREGORIAN
BEGIN:VEVENT
DTSTART:20250318T140000Z
DTEND:20250318T170000Z
X-MICROSOFT-CDO-ALLDAYEVENT:FALSE
SUMMARY:Manufacturing Job Fair
DESCRIPTION:Open to the Public! 9am-12pm Begin your future in advanced manufacturing on March 18th! Meet local manufacturers hiring now and training partners to help you gain in-demand skills. Go to workintexas.com to register for this event! Or follow the link: https://tinyurl.com/23rccmgx Or Scan the QR code!
X-ALT-DESC;FMTTYPE=text/html:<span style="color:rgb(0\, 0\, 0)\; font-family:segoe ui\,arial\,sans-serif\; font-size:16px">Open to the Public! 9am-12pm Begin your future in advanced manufacturing on March 18th! Meet local manufacturers hiring now and training partners to help you gain in-demand skills. Go to workintexas.com to register for this event! Or follow the link: https://tinyurl.com/23rccmgx Or Scan the QR code!</span>
LOCATION:Workforce Solutions Rural Capital Area Office 575 Round Rock West Drive\, Bldg H\, Suite 220 Round Rock\, TX 78681
UID:e.3550.9418
SEQUENCE:3
DTSTAMP:20260420T120129Z
URL:https://business.georgetownchamber.org/events/details/manufacturing-job-fair-9418
END:VEVENT

END:VCALENDAR
