BEGIN:VCALENDAR
VERSION:2.0
PRODID:-//ChamberMaster//Event Calendar 2.0//EN
METHOD:PUBLISH
X-PUBLISHED-TTL:P3D
REFRESH-INTERVAL:P3D
CALSCALE:GREGORIAN
BEGIN:VEVENT
DTSTART:20260406T180000Z
DTEND:20260406T190000Z
X-MICROSOFT-CDO-ALLDAYEVENT:FALSE
SUMMARY:Marketing Program April
DESCRIPTION:We're looking forward to seeing you at our next Georgetown Chamber Marketing Program workshop on Monday\, April 6th\, from 1:00 2:00 PM here at the Chamber.\n\n\n\nThis time\, we're diving into something that's quietly impacting every business right now\, whether we realize it or not: The Trust Recession.\n\n\n\nNever before have people been more skeptical of what they see online. Between AI-generated content\, fake reviews\, manipulated images\, and endless noise\, it's getting harder for businesses to earn belief\, let alone attention.\n\n\n\nAnd because of that\, something important has shifted: We used to grow our businesses by being known   liked   trusted. Now\, it's happening in reverse. People need to trust you first before they'll even take the time to get to know you.\n\n\n\nSo the question becomes: How do we build trust in a world where trust is harder than ever to earn? That's exactly what we're going to explore together.\n\n\n\nThis will be a mastermind-style session\, not a lecture. We'll bring the framework and perspective\, and then open it up for real conversation around:\n\n   What actually builds trust today (online and offline)\n\n   How to show up in a way that feels real\, human\, and credible\n\n   Trust signals that matter to people and to algorithms\n\n   Practical ideas you can walk away and implement right away\n\n\n\nOur goal is simple: To help you leave with more clarity\, more confidence\, and a stronger sense of how to show up in a way that people believe.\n\n\n\nPlease register in advance so we can plan accordingly\, and feel free to bring a fellow business professional who would benefit from the conversation. We can't wait to learn and collaborate with you in the room.\n\n\nHosts:\n\nCarolyn Cummins - Santosha Solutions: Marketing and Social Media Coach\n\nLaura Terry - Grayson Media and Marketing
X-ALT-DESC;FMTTYPE=text/html:<p><span style="color:#000000\;"><span style="font-family: arial\; font-size: 14px\;"><span style="font-size:18px\;">We&rsquo\;re looking forward to seeing you at our next Georgetown Chamber Marketing Program workshop on Monday\, April 6th\, from 1:00&ndash\;2:00 PM here at&nbsp\;the Chamber.<br />\n<br />\nThis time\, we&rsquo\;re diving into something that&rsquo\;s quietly impacting every business right now\,&nbsp\;whether we realize it or not: The Trust Recession.<br />\n<br />\nNever before have people been more skeptical of what they see online. Between AI-generated content\, fake reviews\, manipulated images\, and endless noise\, it&rsquo\;s getting harder for businesses to earn belief\,&nbsp\;let alone attention.<br />\n<br />\nAnd because of that\, something important has shifted: We used to grow our businesses by being known &rarr\; liked &rarr\; trusted. Now\, it&rsquo\;s happening in reverse. People need to trust you first&nbsp\;before they&rsquo\;ll even take the time to get to know you.<br />\n<br />\nSo the question becomes: How do we build trust in a world where trust is harder than ever to earn?&nbsp\;That&rsquo\;s exactly what we&rsquo\;re going to explore together.<br />\n<br />\nThis will be a mastermind-style session\, not a lecture. We&rsquo\;ll bring the framework and perspective\, and then open it up for real conversation around:<br />\n&nbsp\;&bull\; What actually builds trust today (online and offline)<br />\n&nbsp\;&bull\; How to show up in a way that feels real\, human\, and credible<br />\n&nbsp\;&bull\; Trust signals that matter&mdash\;to people and to algorithms<br />\n&nbsp\;&bull\; Practical ideas you can walk away and implement right away<br />\n<br />\nOur goal is simple: To help you leave with more clarity\, more confidence\, and a stronger sense of how to show up in a way that people believe.<br />\n<br />\nPlease&nbsp\;register in advance&nbsp\;so we can plan accordingly\, and feel free to bring a&nbsp\;fellow business professional&nbsp\;who would benefit from the conversation.&nbsp\;We can&rsquo\;t wait to learn and collaborate with you in the room.</span></span></span></p>\n<br />\n<span style="font-size:18px\;"><span style="font-family:arial\;"><span style="color:#000000\;"><strong>Hosts:</strong><br />\nCarolyn Cummins - </span><u><a href="https://santoshasolutions.com/"><span style="color:#000000\;">Santosha Solutions: Marketing and Social Media Coach</span></a></u><br />\n<span style="color:#000000\;">Laura Terry - </span><u><a href="https://www.lauracapesterry.com/"><span style="color:#000000\;">Grayson Media and Marketing&nbsp\;</span></a></u></span></span>
LOCATION:Georgetown Chamber of Commerce 1 Chamber Way Georgetown\, TX\, 78626
UID:e.3550.9616
SEQUENCE:3
DTSTAMP:20260422T160411Z
URL:https://business.georgetownchamber.org/events/details/marketing-program-april-9616
END:VEVENT

END:VCALENDAR
