BEGIN:VCALENDAR
VERSION:2.0
PRODID:-//ChamberMaster//Event Calendar 2.0//EN
METHOD:PUBLISH
X-PUBLISHED-TTL:P3D
REFRESH-INTERVAL:P3D
CALSCALE:GREGORIAN
BEGIN:VEVENT
DTSTART:20250311T140000Z
DTEND:20250311T180000Z
X-MICROSOFT-CDO-ALLDAYEVENT:FALSE
SUMMARY:Metro Area Job Fair
DESCRIPTION:Job Seekers\, this is our Monthly Job Fair with employers from a variety of industries!\n\n\n\nEmployers are job fairs are Free and there is no charge to have a table! Contact me if you are hiring and would like a table!
X-ALT-DESC;FMTTYPE=text/html:Job Seekers\, this is our Monthly Job Fair with employers from a variety of industries!<br />\n<br />\nEmployers are job fairs are Free and there is no charge to have a table! Contact me if you are hiring and would like a table!
LOCATION:Workforce Solutions Rural Capital Area Office 575 Round Rock West Drive\, Bldg H\, Suite 220 Round Rock\, TX 78681
UID:e.3550.9419
SEQUENCE:3
DTSTAMP:20260420T120230Z
URL:https://business.georgetownchamber.org/events/details/metro-area-job-fair-03-11-2025-9419
END:VEVENT

END:VCALENDAR
