BEGIN:VCALENDAR
VERSION:2.0
PRODID:-//ChamberMaster//Event Calendar 2.0//EN
METHOD:PUBLISH
X-PUBLISHED-TTL:P3D
REFRESH-INTERVAL:P3D
CALSCALE:GREGORIAN
BEGIN:VEVENT
DTSTART:20260430T210000Z
DTEND:20260430T220000Z
X-MICROSOFT-CDO-ALLDAYEVENT:FALSE
SUMMARY:Ribbon Cutting - HTeaO Georgetown
DESCRIPTION:Ribbon Cutting - HTeaO Georgetown\n\n \n\n \n\nThe Chamber of Commerce is proud to partner with HTeaO Georgetown as we celebrate their Grand Opening with a Ribbon Cutting! Please stop by\, get to know their staff\, and learn more about their business.\n\n \n\nHTeaO Georgetown is a go-to spot for refreshing\, high-quality beverages\, offering over 20 flavors of freshly brewed sweet and unsweet iced tea made daily with premium filtered water and all-natural\, non-GMO ingredients. Favorites like Sweet Georgia Peach\, Watermelon\, Coconut\, and Chair keep guests coming back\, with the option to mix flavors for a custom blend. In addition to their signature teas\, HTeaO also serves handcrafted coffee featuring Free Rein Coffee\, along with a selection of grab-and-go snacks perfect for any time of day. Whether you're stopping in or ordering ahead\, HTeaO Georgetown has quickly become a local favorite for a refreshing pick-me-up.\n\n \n\nDoors will be open from 4 pm to 5 pm. Please come early\, get to know the staff\, and learn more about their business. \n\n \n\nRibbon Cuttings are an excellent opportunity to celebrate milestones with members of the Georgetown Chamber. Ribbon Cuttings are free and open to the public.
X-ALT-DESC;FMTTYPE=text/html:<div style="text-align: center\;"><span style="color:#000000\;"><span style="font-size:22px\;"><span style="font-family:arial\;">Ribbon Cutting - HTeaO Georgetown</span></span></span><br />\n&nbsp\;<br />\n&nbsp\;</div>\n\n<div style="text-align: center\;"><span style="color:#000000\;"><span style="font-size:18px\;"><span style="font-family:arial\;">The Chamber of Commerce is proud to partner with HTeaO Georgetown</span></span></span><span style="color:#000000\;"><span style="font-size:18px\;"><span style="font-family:arial\;">&nbsp\;as we celebrate their Grand Opening with a Ribbon Cutting! Please stop by\, get to know their staff\, and learn more about their business.</span></span></span></div>\n\n<div style="text-align: center\;">&nbsp\;</div>\n\n<div><font color="#000000" face="arial"><span style="font-size: 18px\;">HTeaO Georgetown is a go-to spot for refreshing\, high-quality beverages\, offering over 20 flavors of freshly brewed sweet and unsweet iced tea made daily with premium filtered water and all-natural\, non-GMO ingredients. Favorites like Sweet Georgia Peach\, Watermelon\, Coconut\, and Chair keep guests coming back\, with the option to mix flavors for a custom blend. In addition to their signature teas\, HTeaO also serves handcrafted coffee featuring Free Rein Coffee\, along with a selection of grab-and-go snacks perfect for any time of day. Whether you&#39\;re stopping in or ordering ahead\, HTeaO Georgetown has quickly become a local favorite for a refreshing pick-me-up.</span></font><br />\n&nbsp\;</div>\n\n<div><span style="color:#000000\;"><span style="font-size:18px\;"><span style="font-family:arial\;">Doors will be open from 4&nbsp\;pm to 5&nbsp\;pm. Please come early\, get to know the staff\, and learn more about their business.&nbsp\;</span></span></span></div>\n\n<div style="text-align: center\;">&nbsp\;</div>\n\n<div><span style="color:#000000\;"><span style="font-size:18px\;"><span style="font-family: arial\;"><em>Ribbon Cuttings are an excellent opportunity to celebrate milestones with members of the Georgetown Chamber. Ribbon Cuttings are free and open to the public.</em></span></span></span></div>\n
LOCATION:Williams & Bootys Crossing
UID:e.3550.9801
SEQUENCE:3
DTSTAMP:20260420T010248Z
URL:https://business.georgetownchamber.org/events/details/ribbon-cutting-hteao-georgetown-9801
END:VEVENT

END:VCALENDAR
