BEGIN:VCALENDAR
VERSION:2.0
PRODID:-//ChamberMaster//Event Calendar 2.0//EN
METHOD:PUBLISH
X-PUBLISHED-TTL:P3D
REFRESH-INTERVAL:P3D
CALSCALE:GREGORIAN
BEGIN:VEVENT
DTSTART:20250305T230000Z
DTEND:20250306T020000Z
X-MICROSOFT-CDO-ALLDAYEVENT:FALSE
SUMMARY:ROCK at Tejas Meat Supply
DESCRIPTION:Join ROCK (Ride On Center for Kids) at Tejas Meat Supply on the beautiful Georgetown square at our kick off party for Amplify Wilco! This kicks off our 24 hour push to raise funds! We will have games\, prizes and vendors. Come visit the square and see all the non profits in WilCo!
X-ALT-DESC;FMTTYPE=text/html:Join ROCK (Ride On Center for Kids) at Tejas Meat Supply on the beautiful Georgetown square at our kick off party for Amplify Wilco! This kicks off our 24 hour push to raise funds! We will have games\, prizes and vendors. Come visit the square and see all the non profits in WilCo!
LOCATION:Tejas Meat Supply
UID:e.3550.9416
SEQUENCE:3
DTSTAMP:20260420T120128Z
URL:https://business.georgetownchamber.org/events/details/rock-at-tejas-meat-supply-9416
END:VEVENT

END:VCALENDAR
