BEGIN:VCALENDAR
VERSION:2.0
PRODID:-//ChamberMaster//Event Calendar 2.0//EN
METHOD:PUBLISH
X-PUBLISHED-TTL:P3D
REFRESH-INTERVAL:P3D
CALSCALE:GREGORIAN
BEGIN:VEVENT
DTSTART:20250330T003000Z
DTEND:20250330T020000Z
X-MICROSOFT-CDO-ALLDAYEVENT:FALSE
SUMMARY:Sarofim Music Series: Adam Delmonte
DESCRIPTION:Prepare to be mesmerized by the captivating artistry of guitarist Adam Del Monte and Ismael Fern ndez in an evening of soul-stirring music. Hailed as a virtuoso of the classical and flamenco guitar\, Adam Del Monte brings a unique blend of technical brilliance and emotive depth to every performance. With a career spanning continents and genres\, Adam has enchanted audiences worldwide with his dynamic interpretations and innovative compositions.
X-ALT-DESC;FMTTYPE=text/html:Prepare to be mesmerized by the captivating artistry of guitarist Adam Del Monte and Ismael Fern&aacute\;ndez in an evening of soul-stirring music. Hailed as a virtuoso of the classical and flamenco guitar\, Adam Del Monte brings a unique blend of technical brilliance and emotive depth to every performance. With a career spanning continents and genres\, Adam has enchanted audiences worldwide with his dynamic interpretations and innovative compositions.
LOCATION:Southwestern University Alma Thomas Fine Arts Center
UID:e.3550.9434
SEQUENCE:3
DTSTAMP:20260420T120149Z
URL:https://business.georgetownchamber.org/events/details/sarofim-music-series-adam-delmonte-9434
END:VEVENT

END:VCALENDAR
