BEGIN:VCALENDAR
VERSION:2.0
PRODID:-//ChamberMaster//Event Calendar 2.0//EN
METHOD:PUBLISH
X-PUBLISHED-TTL:P3D
REFRESH-INTERVAL:P3D
CALSCALE:GREGORIAN
BEGIN:VEVENT
DTSTART:20260408T003000Z
DTEND:20260408T013000Z
X-MICROSOFT-CDO-ALLDAYEVENT:FALSE
SUMMARY:Sarofim Music Series: Gina Williams
DESCRIPTION:Singer\, songwriter\, pianist\, composer\, producer\, and film & television actress Gina Williams is an engaging and entertaining performer\, who continues to perform nationally and internationally bringing audiences to their feet. For over a decade\, Gina has performed Pop\, Rock\, R&B/Soul\, Jazz\, Gospel\, Christian\, Dance\, Caribbean/Latin\, and Classical music at numerous festivals and concert stages. She has shared the stage with notable artists including Burton Cummings (The Guess Who)\, Take 6\, and Kardinal Offishal. She will be creating a special concert including original Celtic music specifically for our presentation.
X-ALT-DESC;FMTTYPE=text/html:Singer\, songwriter\, pianist\, composer\, producer\, and film &amp\; television actress Gina Williams is an engaging and entertaining performer\, who continues to perform nationally and internationally bringing audiences to their feet. For over a decade\, Gina has performed Pop\, Rock\, R&amp\;B/Soul\, Jazz\, Gospel\, Christian\, Dance\, Caribbean/Latin\, and Classical music at numerous festivals and concert stages. She has shared the stage with notable artists including Burton Cummings (The Guess Who)\, Take 6\, and Kardinal Offishal. She will be creating a special concert including original Celtic music specifically for our presentation.
LOCATION:Southwestern University\, Alma Thomas Fine Arts Center
UID:e.3550.9610
SEQUENCE:3
DTSTAMP:20260422T160915Z
URL:https://business.georgetownchamber.org/events/details/sarofim-music-series-gina-williams-9610
END:VEVENT

END:VCALENDAR
