BEGIN:VCALENDAR
VERSION:2.0
PRODID:-//ChamberMaster//Event Calendar 2.0//EN
METHOD:PUBLISH
X-PUBLISHED-TTL:P3D
REFRESH-INTERVAL:P3D
CALSCALE:GREGORIAN
BEGIN:VEVENT
DTSTART:20260327T230000Z
DTEND:20260328T010000Z
X-MICROSOFT-CDO-ALLDAYEVENT:FALSE
SUMMARY:Style Drop Social
DESCRIPTION:Join Us at Style Drop Social! Hey fashion lovers! Join us for an exclusive after-hours shopping party where style meets social vibes. Sip on a refreshing wine slushie while you shop our unseen boutique inventory   including brand-new arrivals\, online exclusives\, vintage gems\, and designer finds for women\, men\, and kids. Your ticket includes: First Dibs on Inventory Not Yet Released to the Public. A Wine Slushie & Snacks. Designer Purse Raffle. Spin-to-win Prizes and Surprise Steals. Special Event-Only Discounts Grab your girls and make a night of it! This is your chance to connect\, sip\, shop\, and score incredible finds before anyone else. 21+ only (no exceptions). Entry will not be permitted without a ticket ONLY 25 TICKETS WILL BE SOLD TO THIS EVENT   don't miss out!
X-ALT-DESC;FMTTYPE=text/html:Join Us at Style Drop Social! Hey fashion lovers! Join us for an exclusive after-hours shopping party where style meets social vibes. Sip on a refreshing wine slushie while you shop our unseen boutique inventory &mdash\; including brand-new arrivals\, online exclusives\, vintage gems\, and designer finds for women\, men\, and kids. Your ticket includes: First Dibs on Inventory Not Yet Released to the Public. A Wine Slushie &amp\; Snacks. Designer Purse Raffle. Spin-to-win Prizes and Surprise Steals. Special Event-Only Discounts Grab your girls and make a night of it! This is your chance to connect\, sip\, shop\, and score incredible finds before anyone else. 21+ only (no exceptions). Entry will not be permitted without a ticket ONLY 25 TICKETS WILL BE SOLD TO THIS EVENT &mdash\; don&rsquo\;t miss out!
LOCATION:True Thrift Collective 4236 Williams Drive Georgetown\, TX 78628
UID:e.3550.9773
SEQUENCE:3
DTSTAMP:20260424T091328Z
URL:https://business.georgetownchamber.org/events/details/style-drop-social-9773
END:VEVENT

END:VCALENDAR
