BEGIN:VCALENDAR
VERSION:2.0
PRODID:-//ChamberMaster//Event Calendar 2.0//EN
METHOD:PUBLISH
X-PUBLISHED-TTL:P3D
REFRESH-INTERVAL:P3D
CALSCALE:GREGORIAN
BEGIN:VEVENT
DTSTART:20260314T150000Z
DTEND:20260314T220000Z
X-MICROSOFT-CDO-ALLDAYEVENT:FALSE
SUMMARY:True Thrift Spring Pop-up Market
DESCRIPTION:Mark Your Calendars! Our Spring Pop-Up is happening soon! Saturday\, March 14th 10 AM   5 PM. On the porch\, in the courtyard & inside our shop! Join us in supporting eight amazing local women entrepreneurs as they showcase their crafts\, handmade creations\, and unique goods! We will also have fabulous deals inside the Thrift Boutique for everyone in your family. Come shop small\, discover something special\, and celebrate the incredible talent in our community. Bring your friends and family and help us show these hardworking women just how much Georgetown supports local business. Grab your friends\, mark the date\, and get ready for a day of fun\, shopping\, and community!
X-ALT-DESC;FMTTYPE=text/html:Mark Your Calendars! Our Spring Pop-Up is happening soon! Saturday\, March 14th 10 AM &ndash\; 5 PM. On the porch\, in the courtyard &amp\; inside our shop! Join us in supporting eight amazing local women entrepreneurs as they showcase their crafts\, handmade creations\, and unique goods! We will also have fabulous deals inside the Thrift Boutique for everyone in your family. Come shop small\, discover something special\, and celebrate the incredible talent in our community. Bring your friends and family and help us show these hardworking women just how much Georgetown supports local business. Grab your friends\, mark the date\, and get ready for a day of fun\, shopping\, and community!
LOCATION:True Thrift Collective 4236 Williams Drive Georgetown\, TX 78628
UID:e.3550.9772
SEQUENCE:3
DTSTAMP:20260424T091449Z
URL:https://business.georgetownchamber.org/events/details/true-thrift-spring-pop-up-market-9772
END:VEVENT

END:VCALENDAR
