BEGIN:VCALENDAR
VERSION:2.0
PRODID:-//ChamberMaster//Event Calendar 2.0//EN
METHOD:PUBLISH
X-PUBLISHED-TTL:P3D
REFRESH-INTERVAL:P3D
CALSCALE:GREGORIAN
BEGIN:VEVENT
DTSTART:20260428T130000Z
DTEND:20260428T140000Z
X-MICROSOFT-CDO-ALLDAYEVENT:FALSE
SUMMARY:Veteran/Military Affairs Alliance
DESCRIPTION:Real connections happen best within authentic relationships where members connect with one another. Our Veteran/Military Affairs Alliance is a small group of Chamber members and their guests\, who share common interest in their business and professional development. The VMAA meets quarterly to build business relationships and trust among fellow members who know about their business and want to help each other succeed. \n\nDescription: A platform for building a community of veteran-owned businesses to discuss business and veteran topics such as veteran funds\, grants\, and resources.\n\nFormat: Round Table\n\nLocation: Georgetown Chamber of Commerce\n\nHost: Ret. Gen. Bob Halverson\n\nTarget Audience: Veteran-owned businesses
X-ALT-DESC;FMTTYPE=text/html:<p><span style="color:#000000\;"><span style="font-size:18px\;"><span style="font-family:arial\;">Real connections happen best within authentic relationships where members connect with one another. Our Veteran/Military Affairs&nbsp\;Alliance is a small group of Chamber members and their guests\,&nbsp\;who share common interest in their business and professional development. The VMAA meets quarterly&nbsp\;to build business relationships and trust among fellow members who know about their business and want to help each other succeed.&nbsp\;</span></span></span><span style="font-family: Verdana\, sans-serif\;"><o:p></o:p></span></p>\n\n<p><span style="color:#000000\;"><span style="font-size:18px\;"><span style="font-family:arial\;">Description: A platform for building a community of veteran-owned businesses to discuss business and veteran topics such as veteran funds\, grants\, and resources.</span></span></span></p>\n\n<p><span style="color:#000000\;"><span style="font-size:18px\;"><span style="font-family:arial\;"><strong>Format</strong>: Round Table<br />\n<strong>Location:&nbsp\;</strong>Georgetown Chamber of Commerce<br />\n<strong>Host:</strong>&nbsp\;Ret. Gen. Bob Halverson<br />\n<strong>Target Audience</strong>: Veteran-owned businesses</span></span></span></p>\n
LOCATION:The Georgetown Chamber of Commerce 1 Chamber Way Georgetown\, TX 78626
UID:e.3550.9687
SEQUENCE:3
DTSTAMP:20260422T160614Z
URL:https://business.georgetownchamber.org/events/details/veteran-military-affairs-alliance-9687
END:VEVENT

END:VCALENDAR
