BEGIN:VCALENDAR
VERSION:2.0
PRODID:-//ChamberMaster//Event Calendar 2.0//EN
METHOD:PUBLISH
X-PUBLISHED-TTL:P3D
REFRESH-INTERVAL:P3D
CALSCALE:GREGORIAN
BEGIN:VEVENT
DTSTART:20260409T140000Z
DTEND:20260409T150000Z
X-MICROSOFT-CDO-ALLDAYEVENT:FALSE
SUMMARY:(WIB) Women In Business Alliance
DESCRIPTION:Join us for our April Women in Business Alliance!\n\nThursday\, April 9\, 2026 from 9:00A - 10:00A at the Georgetown Chamber of Commerce.\n\n\n\n2nd Quarter has loaded\, Spring time is in the air - It's time to reset\, refresh\, renew and revisit your purpose.\n\n\n\nJoin us Thursday for a dynamic presentation by Tori Clark\, Founder and Owner of Spa Luxe Georgetown AND Austin. \n\n\n\nReal connections happen best within authentic relationships where members connect with one another. Our Women in Business is a small groups of Chamber members who share common interest in their business and professional development. The group meets monthly to build business relationships and trust among fellow members who know about their business and want to help each other succeed.\n\n \n\nSupport and networking for women in business (Owners or anyone working in a business)\n\n\n\nFormat: Roundtable   Discussion\n\n\n\nHost:\n\nMichele Jaroszewski-Webb (Schlotzsky's Deli)\n\nStephanie Featherstone (State Farm Insurance)\n\n \n\nWendy Cash (Century 21 Stribling Properties)
X-ALT-DESC;FMTTYPE=text/html:<p style="margin: 0in\; background-image: initial\; background-position: initial\; background-size: initial\; background-repeat: initial\; background-attachment: initial\; background-origin: initial\; background-clip: initial\; text-align: center\;"><span style="color: rgb(0\, 0\, 0)\; font-family: arial\; font-size: 18px\;">Join us for our April Women in Business Alliance!<br />\nThursday\, April 9\, 2026 from 9:00A - 10:00A at the Georgetown Chamber of Commerce.</span><br style="color: rgb(0\, 0\, 0)\; font-family: arial\; font-size: 18px\;" />\n<br style="color: rgb(0\, 0\, 0)\; font-family: arial\; font-size: 18px\;" />\n<span style="color: rgb(0\, 0\, 0)\; font-family: arial\; font-size: 18px\;">2nd Quarter has loaded\, Spring time is in the air - It&#39\;s time to reset\, refresh\, renew and revisit your purpose.</span><br style="color: rgb(0\, 0\, 0)\; font-family: arial\; font-size: 18px\;" />\n<br style="color: rgb(0\, 0\, 0)\; font-family: arial\; font-size: 18px\;" />\n<span style="color: rgb(0\, 0\, 0)\; font-family: arial\; font-size: 18px\;">Join us Thursday for a dynamic presentation by Tori Clark\, Founder and Owner of Spa Luxe Georgetown AND Austin.</span><span style="color: rgb(0\, 0\, 0)\; font-family: arial\; font-size: 18px\;">&nbsp\;</span></p>\n\n<p style="margin: 0in\; background-image: initial\; background-position: initial\; background-size: initial\; background-repeat: initial\; background-attachment: initial\; background-origin: initial\; background-clip: initial\;"><br />\n<span style="font-size:18px\;"><span style="font-family:arial\;"><span style="color:#000000\;"><span style="background-image: initial\; background-position: initial\; background-size: initial\; background-repeat: initial\; background-attachment: initial\; background-origin: initial\; background-clip: initial\;">Real connections happen best within authentic relationships where members connect with one another. Our Women in Business is a small groups of Chamber members who share common interest in their business and professional development. The group&nbsp\;meets monthly to build business relationships and trust among fellow members who know about their business and want to help each other succeed.<br />\n&nbsp\;</span><br />\nSupport and networking for women in business (Owners or anyone working in a business)<br />\n<br />\n<span style="background:white\;">Format: Roundtable &ndash\; Discussion</span><br />\n<br />\nHost:</span></span></span></p>\n\n<p style="margin: 0in\; background-image: initial\; background-position: initial\; background-size: initial\; background-repeat: initial\; background-attachment: initial\; background-origin: initial\; background-clip: initial\;"><span style="font-size: 18px\;"><span style="font-family: arial\;"><span style="color: rgb(0\, 0\, 0)\;">Michele Jaroszewski-Webb&nbsp\;</span><span style="color: rgb(0\, 0\, 0)\;">(Schlotzsky&#39\;s Deli)</span></span></span><br />\n<span style="font-size: 18px\; font-family: arial\; color: rgb(0\, 0\, 0)\;">Stephanie Featherstone (State Farm Insurance)</span></p>\n\n<p style="margin: 0in\; background-image: initial\; background-position: initial\; background-size: initial\; background-repeat: initial\; background-attachment: initial\; background-origin: initial\; background-clip: initial\; box-sizing: border-box\;">&nbsp\;</p>\n\n<p style="margin: 0in\; background-image: initial\; background-position: initial\; background-size: initial\; background-repeat: initial\; background-attachment: initial\; background-origin: initial\; background-clip: initial\;"><span style="color: rgb(0\, 0\, 0)\;"><span style="font-family: arial\;"><span style="font-size: 18px\;">Wendy Cash (Century 21 Stribling&nbsp\;</span></span><span style="font-size: 18px\;"><span style="font-family: arial\;">Properties</span></span><span style="font-family: arial\;"><span style="font-size: 18px\;">)&nbsp\;</span></span></span></p>\n\n<p style="margin: 0in\; background-image: initial\; background-position: initial\; background-size: initial\; background-repeat: initial\; background-attachment: initial\; background-origin: initial\; background-clip: initial\;">&nbsp\;</p>\n\n<p style="margin: 0in\; background-image: initial\; background-position: initial\; background-size: initial\; background-repeat: initial\; background-attachment: initial\; background-origin: initial\; background-clip: initial\;">&nbsp\;</p>\n\n<p style="margin: 0in\; background-image: initial\; background-position: initial\; background-size: initial\; background-repeat: initial\; background-attachment: initial\; background-origin: initial\; background-clip: initial\;">&nbsp\;</p>\n\n<p style="margin: 0in\; background-image: initial\; background-position: initial\; background-size: initial\; background-repeat: initial\; background-attachment: initial\; background-origin: initial\; background-clip: initial\;">&nbsp\;</p>\n\n<p style="margin: 0in\; background-image: initial\; background-position: initial\; background-size: initial\; background-repeat: initial\; background-attachment: initial\; background-origin: initial\; background-clip: initial\; box-sizing: border-box\;">&nbsp\;</p>\n\n<p style="margin: 0in\; background-image: initial\; background-position: initial\; background-size: initial\; background-repeat: initial\; background-attachment: initial\; background-origin: initial\; background-clip: initial\;">&nbsp\;</p>\n\n<p style="margin: 0in\; background-image: initial\; background-position: initial\; background-size: initial\; background-repeat: initial\; background-attachment: initial\; background-origin: initial\; background-clip: initial\;">&nbsp\;</p>\n\n<p style="margin: 0in\; background-image: initial\; background-position: initial\; background-size: initial\; background-repeat: initial\; background-attachment: initial\; background-origin: initial\; background-clip: initial\;">&nbsp\;</p>\n\n<p style="margin: 0in\; background-image: initial\; background-position: initial\; background-size: initial\; background-repeat: initial\; background-attachment: initial\; background-origin: initial\; background-clip: initial\;">&nbsp\;</p>\n\n<p style="margin: 0in\; background-image: initial\; background-position: initial\; background-size: initial\; background-repeat: initial\; background-attachment: initial\; background-origin: initial\; background-clip: initial\;">&nbsp\;</p>\n\n<p style="margin: 0in\; background-image: initial\; background-position: initial\; background-size: initial\; background-repeat: initial\; background-attachment: initial\; background-origin: initial\; background-clip: initial\;">&nbsp\;</p>\n\n<p style="margin: 0in\; background-image: initial\; background-position: initial\; background-size: initial\; background-repeat: initial\; background-attachment: initial\; background-origin: initial\; background-clip: initial\;">&nbsp\;</p>\n
LOCATION:Georgetown Chamber of Commerce 1 Chamber Way\, Georgetown\, TX\, 78626
UID:e.3550.9664
SEQUENCE:3
DTSTAMP:20260422T160746Z
URL:https://business.georgetownchamber.org/events/details/wib-women-in-business-alliance-9664
END:VEVENT

END:VCALENDAR
