BEGIN:VCALENDAR
VERSION:2.0
PRODID:-//ChamberMaster//Event Calendar 2.0//EN
METHOD:PUBLISH
X-PUBLISHED-TTL:P3D
REFRESH-INTERVAL:P3D
CALSCALE:GREGORIAN
BEGIN:VEVENT
DTSTART:20240705T220000Z
DTEND:20240706T000000Z
X-MICROSOFT-CDO-ALLDAYEVENT:FALSE
SUMMARY:Williamson County Art Guild Gallery Reception
DESCRIPTION:You're invited!  Monthly receptions at the Williamson County Art Guild Gallery take place every First Friday evening\, from 5-7pm.  Come and view the new art exhibit by over 25 artists\, mingle with the artists\, and enjoy refreshments and music. You may find a piece of art you can't live without!
X-ALT-DESC;FMTTYPE=text/html:You&#39\;re invited!&nbsp\; Monthly receptions at the Williamson County Art Guild Gallery take place every First Friday evening\, from 5-7pm.&nbsp\; Come and view the new art exhibit by over 25 artists\, mingle with the artists\, and enjoy refreshments and music. You may find a piece of art you can&#39\;t live without!&nbsp\; &nbsp\;
LOCATION:708 S Rock St.\, Georgetown\, Texas
UID:e.3550.7668
SEQUENCE:3
DTSTAMP:20260423T112143Z
URL:https://business.georgetownchamber.org/events/details/williamson-county-art-guild-gallery-reception-07-05-2024-7668
END:VEVENT

END:VCALENDAR
